Workbook

Sheet 総括表
B1: 平成22年度 財政状況資料集
B2: 総括表（市町村）
B3: 都道府県名 | L3: 群馬県 | W3: 市町村類型 | AC3: Ⅱ－２ | AM3: 指定団体等の指定状況 | AY3: 区分 | BN3: 平成22年度(千円) | BV3: 平成21年度(千円) | CD3: 区分 | CT3: 平成22年度(千円･％) | DB3: 平成21年度(千円･％)
AY4: 歳入総額 | BN4: 4602412 | BV4: 4244879 | CD4: 実質収支比率 | CT4: 6.2 | DB4: 5.7
AM5: 財政健全化等 | AU5: × | AY5: 歳出総額 | BN5: 4456140 | BV5: 4117892 | CD5: 経常収支比率 | CT5: 95.1 | DB5: 95
B6: 市町村名 | L6: 草津町 | W6: 地方交付税種地 | AC6: 2-1 | AM6: 財源超過 | AU6: × | AY6: 歳入歳出差引 | BN6: 146272 | BV6: 126987 | CD6: (※1) | CT6: 106.3 | DB6: 103.3
AM7: 首都 | AU7: × | AY7: 翌年度に繰越すべき財源 | BN7: 8206 | BV7: 3698 | CD7: 標準財政規模 | CT7: 2238968 | DB7: 2181568
AM8: 近畿 | AU8: × | AY8: 実質収支 | BN8: 138066 | BV8: 123289 | CD8: 財政力指数 | CT8: 0.92 | DB8: 0.95
B9: 人口 | L9: 22年国調(人) | R9: 7160 | W9: 産業構造 | AM9: 中部 | AU9: × | AY9: 単年度収支 | BN9: 14777 | BV9: -32348 | CD9: 公債費負担比率 | CT9: 10.2 | DB9: 9.7
L10: 17年国調(人) | R10: 7602 | AM10: 過疎 | AU10: × | AY10: 積立金 | BN10: 151211 | BV10: 286682 | CD10: 健全化判断比率
L11: 増減率 (％) | R11: -5.8 | W11: 区分 | AC11: 17年国調 | AH11: 12年国調 | AM11: 山振 | AU11: × | AY11: 繰上償還金 | BN11: - | BV11: - | CD11: 実質赤字比率 | CT11: - | DB11: -
B12: 住民基本台帳人口 | L12: 23.03.31(人) | R12: 7025 | W12: 第1次 | AC12: 39 | AH12: 57 | AM12: 低開発 | AU12: × | AY12: 積立金取崩し額 | BN12: 410000 | BV12: 336000 | CD12: 連結実質赤字比率 | CT12: - | DB12: -
L13: 22.03.31(人) | R13: 7084 | AC13: 0.9 | AH13: 1.2 | AM13: 指数表選定 | AU13: × | AY13: 実質単年度収支 | BN13: -244012 | BV13: -81666 | CD13: 実質公債費比率 | CT13: 10.6 | DB13: 10.2
L14: 増減率 (％) | R14: -0.8 | W14: 第2次 | AC14: 355 | AH14: 470 | AY14: 基準財政収入額 | BN14: 1385729 | BV14: 1438504 | CD14: 将来負担比率 | CT14: 69.7 | DB14: 68.1
B15: 面積 (k㎡) | L15: 49.74 | AC15: 7.8 | AH15: 10.3 | AY15: 基準財政需要額 | BN15: 1551155 | BV15: 1544576 | CD15: 資金不足比率 (※3)
B16: 人口密度 (人/k㎡) | L16: 144 | W16: 第3次 | AC16: 4125 | AH16: 4042 | AY16: 標準税収入額等 | BN16: 1810100 | BV16: 1878036
B17: 世帯数 (世帯) | L17: 3474 | AC17: 91.1 | AH17: 88.4 | AY17: 経常経費充当一般財源等 | BN17: 2364112 | BV17: 2358704
B18: 職員の状況 | AY18: 歳入一般財源等 | BN18: 3460575 | BV18: 3487153
B19: 特別職等 | E19: 区分 | L19: 定数 | Q19: 1人あたり平均 給料月額(百円) | W19: 一般職員等 | Z19: 区分 | AH19: 職員数 (人) | AM19: 給料月額 (百円) | AS19: 1人あたり平均 給料月額(百円)
AY20: 地方債現在高 | BN20: 2611082 | BV20: 2584486
E21: 市区町村長 | L21: 1 | Q21: 7650 | Z21: 一般職員 | AH21: 93 | AM21: 310527 | AS21: 3339 | AY21: うち公的資金 | BN21: 2162007 | BV21: 2054386
E22: 副市区町村長 | L22: 1 | Q22: 6340 | Z22: うち消防職員 | AH22: - | AM22: - | AS22: - | AY22: 債務負担行為額（支出予定額） | BN22: 272161 | BV22: 353979
E23: 収入役 | L23: - | Q23: - | Z23: うち技能労務職員 | AH23: 7 | AM23: 24122 | AS23: 3446 | AY23: 収益事業収入 | BN23: - | BV23: -
E24: 教育長 | L24: 1 | Q24: 5800 | Z24: 教育公務員 | AH24: 1 | AM24: 3933 | AS24: 3933 | AY24: 土地開発基金現在高 | BN24: 205320 | BV24: 204820
E25: 議会議長 | L25: 1 | Q25: 3000 | Z25: 臨時職員 | AH25: - | AM25: - | AS25: - | AY25: 積立金 現在高 | BC25: 財政調整基金 | BN25: 763416 | BV25: 952205
E26: 議会副議長 | L26: 1 | Q26: 2450 | Z26: 合計 | AH26: 94 | AM26: 314460 | AS26: 3345 | BC26: 減債基金 | BN26: 14294 | BV26: 21797
E27: 議会議員 | L27: 10 | Q27: 2286 | Z27: ラスパイレス指数 | AH27: 93.8 | BC27: その他特定目的基金 | BN27: 362411 | BV27: 417478
C29: 一般会計等の一覧 | U29: 事業会計の一覧 | AM29: 公営企業（法適）の一覧 | BE29: 公営企業（法非適）の一覧 | BW29: 関係する一部事務組合等一覧 | CO29: 地方公社・第三セクター等一覧
C30: 項番 | E30: 会計名 | U30: 項番 | W30: 会計名 | AM30: 項番 | AO30: 会計名 | BE30: 項番 | BG30: 会計名 | BW30: 項番 | BY30: 組合等名 | CO30: 項番 | CQ30: 団体名 | DG30: (※2)
C31: =IF(E31="","",1) -> 1 | E31: 一般会計 | U31: =IF(W31="","",MAX(C31:D50)+1) -> 2 | W31: 国民健康保険特別会計 | AM31: =IF(AO31="","",MAX(C31:D50,U31:V50)+1) -> 6 | AO31: 水道事業会計 | BE31: =IF(BG31="","",MAX(C31:D50,U31:V50,AM31:AN50)+1) -> 9 | BG31: 公共下水道事業特別会計 | BW31: =IF(BY31="","",MAX(C31:D50,U31:V50,AM31:AN50,BE31:BF50)+1) -> 11 | BY31: =IF('各会計、関係団体の財政状況及び健全化判断比率'!C84="","",'各会計、関係団体の財政状況及び健全化判断比率'!C84) -> 吾妻広域町村圏振興整備組合（一般会計） | CO31: =IF(CQ31="","",MAX(C31:D50,U31:V50,AM31:AN50,BE31:BF50,BW31:BX50)+1) -> 19 | CQ31: =IF('各会計、関係団体の財政状況及び健全化判断比率'!BT7="","",'各会計、関係団体の財政状況及び健全化判断比率'!BT7) -> 草津観光公社 | DG31: =IF('各会計、関係団体の財政状況及び健全化判断比率'!BS7="","",'各会計、関係団体の財政状況及び健全化判断比率'!BS7)
C32: =IF(E32="","",C31+1) | U32: =IF(W32="","",U31+1) -> 3 | W32: 老人保健特別会計 | AM32: =IF(AO32="","",AM31+1) -> 7 | AO32: 温泉温水供給事業会計 | BE32: =IF(BG32="","",BE31+1) -> 10 | BG32: 前口簡易水道事業特別会計 | BW32: =IF(BY32="","",BW31+1) -> 12 | BY32: =IF('各会計、関係団体の財政状況及び健全化判断比率'!C85="","",'各会計、関係団体の財政状況及び健全化判断比率'!C85) -> 吾妻広域町村圏振興整備組合（病院事業） | CO32: =IF(CQ32="","",CO31+1) | CQ32: =IF('各会計、関係団体の財政状況及び健全化判断比率'!BT8="","",'各会計、関係団体の財政状況及び健全化判断比率'!BT8) | DG32: =IF('各会計、関係団体の財政状況及び健全化判断比率'!BS8="","",'各会計、関係団体の財政状況及び健全化判断比率'!BS8)
C33: =IF(E33="","",C32+1) | U33: =IF(W33="","",U32+1) -> 4 | W33: 介護保険特別会計 | AM33: =IF(AO33="","",AM32+1) -> 8 | AO33: 千客万来事業会計 | BE33: =IF(BG33="","",BE32+1) | BW33: =IF(BY33="","",BW32+1) -> 13 | BY33: =IF('各会計、関係団体の財政状況及び健全化判断比率'!C86="","",'各会計、関係団体の財政状況及び健全化判断比率'!C86) -> 西吾妻衛生施設整備組合 | CO33: =IF(CQ33="","",CO32+1) | CQ33: =IF('各会計、関係団体の財政状況及び健全化判断比率'!BT9="","",'各会計、関係団体の財政状況及び健全化判断比率'!BT9) | DG33: =IF('各会計、関係団体の財政状況及び健全化判断比率'!BS9="","",'各会計、関係団体の財政状況及び健全化判断比率'!BS9)
C34: =IF(E34="","",C33+1) | U34: =IF(W34="","",U33+1) -> 5 | W34: 後期高齢者医療特別会計 | AM34: =IF(AO34="","",AM33+1) | BE34: =IF(BG34="","",BE33+1) | BW34: =IF(BY34="","",BW33+1) -> 14 | BY34: =IF('各会計、関係団体の財政状況及び健全化判断比率'!C87="","",'各会計、関係団体の財政状況及び健全化判断比率'!C87) -> 群馬県後期高齢者医療広域連合（一般会計） | CO34: =IF(CQ34="","",CO33+1) | CQ34: =IF('各会計、関係団体の財政状況及び健全化判断比率'!BT10="","",'各会計、関係団体の財政状況及び健全化判断比率'!BT10) | DG34: =IF('各会計、関係団体の財政状況及び健全化判断比率'!BS10="","",'各会計、関係団体の財政状況及び健全化判断比率'!BS10)
C35: =IF(E35="","",C34+1) | U35: =IF(W35="","",U34+1) | AM35: =IF(AO35="","",AM34+1) | BE35: =IF(BG35="","",BE34+1) | BW35: =IF(BY35="","",BW34+1) -> 15 | BY35: =IF('各会計、関係団体の財政状況及び健全化判断比率'!C88="","",'各会計、関係団体の財政状況及び健全化判断比率'!C88) -> 群馬県後期高齢者医療広域連合（事業会計） | CO35: =IF(CQ35="","",CO34+1) | CQ35: =IF('各会計、関係団体の財政状況及び健全化判断比率'!BT11="","",'各会計、関係団体の財政状況及び健全化判断比率'!BT11) | DG35: =IF('各会計、関係団体の財政状況及び健全化判断比率'!BS11="","",'各会計、関係団体の財政状況及び健全化判断比率'!BS11)
C36: =IF(E36="","",C35+1) | U36: =IF(W36="","",U35+1) | AM36: =IF(AO36="","",AM35+1) | BE36: =IF(BG36="","",BE35+1) | BW36: =IF(BY36="","",BW35+1) -> 16 | BY36: =IF('各会計、関係団体の財政状況及び健全化判断比率'!C89="","",'各会計、関係団体の財政状況及び健全化判断比率'!C89) -> 群馬県市町村総合事務組合 | CO36: =IF(CQ36="","",CO35+1) | CQ36: =IF('各会計、関係団体の財政状況及び健全化判断比率'!BT12="","",'各会計、関係団体の財政状況及び健全化判断比率'!BT12) | DG36: =IF('各会計、関係団体の財政状況及び健全化判断比率'!BS12="","",'各会計、関係団体の財政状況及び健全化判断比率'!BS12)
C37: =IF(E37="","",C36+1) | U37: =IF(W37="","",U36+1) | AM37: =IF(AO37="","",AM36+1) | BE37: =IF(BG37="","",BE36+1) | BW37: =IF(BY37="","",BW36+1) -> 17 | BY37: =IF('各会計、関係団体の財政状況及び健全化判断比率'!C90="","",'各会計、関係団体の財政状況及び健全化判断比率'!C90) -> 群馬県市町村会館管理組合 | CO37: =IF(CQ37="","",CO36+1) | CQ37: =IF('各会計、関係団体の財政状況及び健全化判断比率'!BT13="","",'各会計、関係団体の財政状況及び健全化判断比率'!BT13) | DG37: =IF('各会計、関係団体の財政状況及び健全化判断比率'!BS13="","",'各会計、関係団体の財政状況及び健全化判断比率'!BS13)
C38: =IF(E38="","",C37+1) | U38: =IF(W38="","",U37+1) | AM38: =IF(AO38="","",AM37+1) | BE38: =IF(BG38="","",BE37+1) | BW38: =IF(BY38="","",BW37+1) -> 18 | BY38: =IF('各会計、関係団体の財政状況及び健全化判断比率'!C91="","",'各会計、関係団体の財政状況及び健全化判断比率'!C91) -> 西吾妻福祉病院 | CO38: =IF(CQ38="","",CO37+1) | CQ38: =IF('各会計、関係団体の財政状況及び健全化判断比率'!BT14="","",'各会計、関係団体の財政状況及び健全化判断比率'!BT14) | DG38: =IF('各会計、関係団体の財政状況及び健全化判断比率'!BS14="","",'各会計、関係団体の財政状況及び健全化判断比率'!BS14)
C39: =IF(E39="","",C38+1) | U39: =IF(W39="","",U38+1) | AM39: =IF(AO39="","",AM38+1) | BE39: =IF(BG39="","",BE38+1) | BW39: =IF(BY39="","",BW38+1) | BY39: =IF('各会計、関係団体の財政状況及び健全化判断比率'!C92="","",'各会計、関係団体の財政状況及び健全化判断比率'!C92) | CO39: =IF(CQ39="","",CO38+1) | CQ39: =IF('各会計、関係団体の財政状況及び健全化判断比率'!BT15="","",'各会計、関係団体の財政状況及び健全化判断比率'!BT15) | DG39: =IF('各会計、関係団体の財政状況及び健全化判断比率'!BS15="","",'各会計、関係団体の財政状況及び健全化判断比率'!BS15)
C40: =IF(E40="","",C39+1) | U40: =IF(W40="","",U39+1) | AM40: =IF(AO40="","",AM39+1) | BE40: =IF(BG40="","",BE39+1) | BW40: =IF(BY40="","",BW39+1) | BY40: =IF('各会計、関係団体の財政状況及び健全化判断比率'!C93="","",'各会計、関係団体の財政状況及び健全化判断比率'!C93) | CO40: =IF(CQ40="","",CO39+1) | CQ40: =IF('各会計、関係団体の財政状況及び健全化判断比率'!BT16="","",'各会計、関係団体の財政状況及び健全化判断比率'!BT16) | DG40: =IF('各会計、関係団体の財政状況及び健全化判断比率'!BS16="","",'各会計、関係団体の財政状況及び健全化判断比率'!BS16)
C41: =IF(E41="","",C40+1) | U41: =IF(W41="","",U40+1) | AM41: =IF(AO41="","",AM40+1) | BE41: =IF(BG41="","",BE40+1) | BW41: =IF(BY41="","",BW40+1) | BY41: =IF('各会計、関係団体の財政状況及び健全化判断比率'!C94="","",'各会計、関係団体の財政状況及び健全化判断比率'!C94) | CO41: =IF(CQ41="","",CO40+1) | CQ41: =IF('各会計、関係団体の財政状況及び健全化判断比率'!BT17="","",'各会計、関係団体の財政状況及び健全化判断比率'!BT17) | DG41: =IF('各会計、関係団体の財政状況及び健全化判断比率'!BS17="","",'各会計、関係団体の財政状況及び健全化判断比率'!BS17)
...

Sheet 普通会計の状況
DH1: 平成22年度 | DP1: 群馬県草津町
B2: (1) 普通会計の状況（市町村）
B3: 歳入の状況（単位 千円・％） | AP3: 地方税の状況（単位 千円・％） | CD3: 歳出の状況（単位 千円・％）
B4: 区分 | R4: 決算額 | Z4: 構成比 | AD4: 経常一般財源等 | AL4: 構成比 | AP4: 区分 | BG4: 収入済額 | BO4: 構成比 | BS4: 超過課税分 | CD4: 目的別歳出の状況（単位 千円・％）
B5: 地方税 | R5: 2035080 | Z5: 44.2 | AD5: 1885189 | AL5: 84.8 | AP5: 普通税 | BG5: 1675014 | BO5: 82.3 | BS5: 33238 | CD5: 区分 | CR5: 決算額 (A) | CZ5: 構成比 | DD5: (A)のうち普通建設事業費 | DQ5: (A)のうち充当一般財源等
B6: 地方譲与税 | R6: 27835 | Z6: 0.6 | AD6: 27835 | AL6: 1.3 | AP6: 法定普通税 | BG6: 1675014 | BO6: 82.3 | BS6: 33238 | CD6: 議会費 | CR6: 67496 | CZ6: 1.5 | DD6: - | DQ6: 67496
B7: 利子割交付金 | R7: 2928 | Z7: 0.1 | AD7: 2928 | AL7: 0.1 | AP7: 市町村民税 | BG7: 485529 | BO7: 23.9 | BS7: 33238 | CD7: 総務費 | CR7: 820769 | CZ7: 18.4 | DD7: 47371 | DQ7: 772945
B8: 配当割交付金 | R8: 1234 | Z8: 0 | AD8: 1234 | AL8: 0.1 | AP8: 個人均等割 | BG8: 22139 | BO8: 1.1 | BS8: - | CD8: 民生費 | CR8: 945634 | CZ8: 21.2 | DD8: 156813 | DQ8: 596944
B9: 株式等譲渡所得割交付金 | R9: 376 | Z9: 0 | AD9: 376 | AL9: 0 | AP9: 所得割 | BG9: 269165 | BO9: 13.2 | BS9: - | CD9: 衛生費 | CR9: 415014 | CZ9: 9.3 | DD9: 57784 | DQ9: 365458
B10: 地方消費税交付金 | R10: 93484 | Z10: 2 | AD10: 93484 | AL10: 4.2 | AP10: 法人均等割 | BG10: 150913 | BO10: 7.4 | BS10: 25826 | CD10: 労働費 | CR10: 23319 | CZ10: 0.5 | DD10: - | DQ10: 851
B11: ゴルフ場利用税交付金 | R11: 13213 | Z11: 0.3 | AD11: 13213 | AL11: 0.6 | AP11: 法人税割 | BG11: 43312 | BO11: 2.1 | BS11: 7412 | CD11: 農林水産業費 | CR11: 18491 | CZ11: 0.4 | DD11: 528 | DQ11: 16003
B12: 特別地方消費税交付金 | R12: - | Z12: - | AD12: - | AL12: - | AP12: 固定資産税 | BG12: 1108141 | BO12: 54.5 | BS12: - | CD12: 商工費 | CR12: 601829 | CZ12: 13.5 | DD12: 18662 | DQ12: 212399
B13: 自動車取得税交付金 | R13: 7644 | Z13: 0.2 | AD13: 7644 | AL13: 0.3 | AP13: うち純固定資産税 | BG13: 1102546 | BO13: 54.2 | BS13: - | CD13: 土木費 | CR13: 476973 | CZ13: 10.7 | DD13: 222457 | DQ13: 352980
B14: 軽油引取税交付金 | R14: - | Z14: - | AD14: - | AL14: - | AP14: 軽自動車税 | BG14: 13127 | BO14: 0.6 | BS14: - | CD14: 消防費 | CR14: 170795 | CZ14: 3.8 | DD14: 21576 | DQ14: 160582
B15: 地方特例交付金 | R15: 12253 | Z15: 0.3 | AD15: 12253 | AL15: 0.6 | AP15: 市町村たばこ税 | BG15: 68217 | BO15: 3.4 | BS15: - | CD15: 教育費 | CR15: 559336 | CZ15: 12.6 | DD15: 193958 | DQ15: 416386
B16: 児童手当及び子ども手当特例交付金 | R16: 7981 | Z16: 0.2 | AD16: 7981 | AL16: 0.4 | AP16: 鉱産税 | BG16: - | BO16: - | BS16: - | CD16: 災害復旧費 | CR16: - | CZ16: - | DD16: - | DQ16: -
B17: 減収補塡特例交付金 | R17: 4272 | Z17: 0.1 | AD17: 4272 | AL17: 0.2 | AP17: 特別土地保有税 | BG17: - | BO17: - | BS17: - | CD17: 公債費 | CR17: 356484 | CZ17: 8 | DD17: - | DQ17: 352259
B18: 地方交付税 | R18: 380109 | Z18: 8.3 | AD18: 165932 | AL18: 7.5 | AP18: 法定外普通税 | BG18: - | BO18: - | BS18: - | CD18: 諸支出費 | CR18: - | CZ18: - | DD18: - | DQ18: -
B19: 普通交付税 | R19: 165932 | Z19: 3.6 | AD19: 165932 | AL19: 7.5 | AP19: 目的税 | BG19: 360066 | BO19: 17.7 | BS19: - | CD19: 前年度繰上充用金 | CR19: - | CZ19: - | DD19: - | DQ19: -
B20: 特別交付税 | R20: 214177 | Z20: 4.7 | AD20: - | AL20: - | AP20: 法定目的税 | BG20: 360066 | BO20: 17.7 | BS20: - | CD20: 歳出合計 | CR20: 4456140 | CZ20: 100 | DD20: 719149 | DQ20: 3314303
B21: (一般財源計) | R21: 2574156 | Z21: 55.9 | AD21: 2210088 | AL21: 99.4 | AP21: 入湯税 | BG21: 210175 | BO21: 10.3 | BS21: - | CD21: 性質別歳出の状況（単位 千円・％）
B22: 交通安全対策特別交付金 | R22: 851 | Z22: 0 | AD22: 851 | AL22: 0 | AP22: 事業所税 | BG22: - | BO22: - | BS22: - | CD22: 区分 | CR22: 決算額 | CZ22: 構成比 | DD22: 充当一般財源等 | DL22: 経常経費充当一般財源等 | DW22: 経常収支比率
B23: 分担金・負担金 | R23: 46854 | Z23: 1 | AD23: - | AL23: - | AP23: 都市計画税 | BG23: 149891 | BO23: 7.4 | BS23: - | CD23: 義務的経費計 | CR23: 1523729 | CZ23: 34.2 | DD23: 1259075 | DL23: 1248605 | DW23: 50.2
B24: 使用料 | R24: 77437 | Z24: 1.7 | AD24: 1228 | AL24: 0.1 | AP24: 水利地益税等 | BG24: - | BO24: - | BS24: - | CD24: 人件費 | CR24: 836648 | CZ24: 18.8 | DD24: 811437 | DL24: 800967 | DW24: 32.2
B25: 手数料 | R25: 7546 | Z25: 0.2 | AD25: - | AL25: - | AP25: 法定外目的税 | BG25: - | BO25: - | BS25: - | CD25: うち職員給 | CR25: 519896 | CZ25: 11.7 | DD25: 501361 | DL25: - | DW25: -
B26: 国庫支出金 | R26: 306316 | Z26: 6.7 | AD26: - | AL26: - | AP26: 旧法による税 | BG26: - | BO26: - | BS26: - | CD26: 扶助費 | CR26: 330597 | CZ26: 7.4 | DD26: 95379 | DL26: 95379 | DW26: 3.8
B27: 国有提供交付金(特別区財調交付金) | R27: - | Z27: - | AD27: - | AL27: - | AP27: 合計 | BG27: 2035080 | BO27: 100 | BS27: 33238 | CD27: 公債費 | CR27: 356484 | CZ27: 8 | DD27: 352259 | DL27: 352259 | DW27: 14.2
B28: 都道府県支出金 | R28: 201764 | Z28: 4.4 | AD28: - | AL28: - | AP28: 区分 | BG28: 平成22年度 | BR28: 平成21年度 | CD28: 内訳 | CF28: 元利償還金 | CR28: 356484 | CZ28: 8 | DD28: 352259 | DL28: 352259 | DW28: 14.2
B29: 財産収入 | R29: 36668 | Z29: 0.8 | AD29: 10179 | AL29: 0.5 | AP29: 徴収率 (％) | AT29: 現年 | AX29: 合計 | BG29: 93.8 | BM29: 76.1 | BR29: 93.6 | BX29: 78.7 | CF29: 一時借入金利子 | CR29: - | CZ29: - | DD29: - | DL29: - | DW29: -
B30: 寄附金 | R30: 14484 | Z30: 0.3 | AD30: - | AL30: - | AU30: ・計 | AX30: 市町村民税 | BG30: 96.1 | BM30: 85 | BR30: 95.5 | BX30: 86 | CD30: その他の経費 | CR30: 2213262 | CZ30: 49.7 | DD30: 1595573 | DL30: 1115507 | DW30: 44.9
B31: 繰入金 | R31: 877829 | Z31: 19.1 | AD31: - | AL31: - | AX31: 純固定資産税 | BG31: 92.2 | BM31: 71.5 | BR31: 92.7 | BX31: 75.3 | CD31: 物件費 | CR31: 788210 | CZ31: 17.7 | DD31: 612172 | DL31: 505961 | DW31: 20.3
B32: 繰越金 | R32: 56987 | Z32: 1.2 | AD32: - | AL32: - | CD32: 維持補修費 | CR32: 52366 | CZ32: 1.2 | DD32: 37621 | DL32: 37621 | DW32: 1.5
B33: 諸収入 | R33: 54920 | Z33: 1.2 | AD33: 1419 | AL33: 0.1 | AQ33: 公営事業等への繰出 | BG33: 国民健康保険事業会計の状況 | CD33: 補助費等 | CR33: 850980 | CZ33: 19.1 | DD33: 464207 | DL33: 367830 | DW33: 14.8
B34: 地方債 | R34: 346600 | Z34: 7.5 | AD34: - | AL34: - | AQ34: 合計 | AZ34: 862419 | BG34: 実質収支 | BV34: 63422 | CD34: うち一部事務組合負担金 | CR34: 160505 | CZ34: 3.6 | DD34: 160505 | DL34: 153112 | DW34: 6.2
B35: うち減収補塡債(特例分) | R35: - | Z35: - | AD35: - | AL35: - | AQ35: 観光施設 | AZ35: 423384 | BG35: 再差引収支 | BV35: 8664 | CD35: 繰出金 | CR35: 361182 | CZ35: 8.1 | DD35: 325668 | DL35: 204095 | DW35: 8.2
B36: うち臨時財政対策債 | R36: 262900 | Z36: 5.7 | AD36: - | AL36: - | AQ36: 病院 | AZ36: 76853 | BG36: 加入世帯数(世帯) | BV36: 1638 | CD36: 積立金 | CR36: 160524 | CZ36: 3.6 | DD36: 155905 | DL36: - | DW36: -
B37: 歳入合計 | R37: 4602412 | Z37: 100 | AD37: 2223765 | AL37: 100 | AQ37: 下水道 | AZ37: 70000 | BG37: 被保険者数(人) | BV37: 2896 | CD37: 投資・出資金・貸付金 | CR37: - | CZ37: - | DD37: - | DL37: - | DW37: -
AQ38: 上水道 | AZ38: 1000 | BG38: 被保険者 1人当り | BM38: 保険税(料)収入額 | BV38: 84 | CD38: 前年度繰上充用金 | CR38: - | CZ38: - | DD38: -
AQ39: 国民健康保険 | AZ39: 128511 | BM39: 国庫支出金 | BV39: 81 | CD39: 投資的経費計 | CR39: 719149 | CZ39: 16.1 | DD39: 459655
AQ40: その他 | AZ40: 162671 | BM40: 保険給付費 | BV40: 222 | CD40: うち人件費 | CR40: 19772 | CZ40: 0.4 | DD40: 19772
...

Sheet 各会計、関係団体の財政状況及び健全化判断比率
B2: (2)各会計、関係団体の財政状況及び健全化判断比率（市町村） | DK2: 平成22年度 | DR2: 群馬県草津町
B4: 一般会計等の財政状況（単位：百万円） | BR4: 地方公社・第三セクター等の経営状況及び地方公共団体の財政的支援の状況（単位：百万円）
B5: 会計名 | R5: 歳入 | W5: 歳出 | AB5: 形式収支 | AG5: 実質収支 | AL5: 他会計等からの 繰入金 | AQ5: 地方債 現在高 | AV5: 備考 | BR5: 地方公社・第三セクター等名 | CI5: 経常損益 | CN5: 純資産又は 正味財産 | CS5: 当該団体からの 出資金 | CX5: 当該団体からの 補助金 | DC5: 当該団体からの 貸付金 | DH5: 当該団体からの 債務保証に係る 債務残高 | DM5: 当該団体からの 損失補償に係る 債務残高 | DR5: 一般会計等 負担見込額 | DW5: 備考
B7: 1 | C7: 一般会計 | R7: 4605 | W7: 4458 | AB7: 147 | AG7: 139 | AQ7: 2611 | BR7: 1 | BT7: 草津観光公社 | CI7: ▲31 | CN7: ▲65 | CS7: 37 | CX7: － | DC7: － | DH7: － | DM7: 27 | DR7: 25
B8: 2 | BR8: 2
B9: 3 | BR9: 3
B10: 4 | BR10: 4
B11: 5 | BR11: 5
B12: 6 | BR12: 6
B13: 7 | BR13: 7
B14: 8 | BR14: 8
B15: 9 | BR15: 9
B16: 10 | BR16: 10
B17: 11 | BR17: 11
B18: 12 | BR18: 12
B19: 13 | BR19: 13
... B21: 15 | BR21: 15
B22: 16 | BA22: 実質赤字額 | BR22: 16
B23: 計 | C23: 一般会計等 | R23: 4605 | W23: 4458 | AB23: 147 | AG23: 139 | AQ23: 2611 | BA23: - | BR23: 17
BR24: 18
B25: 公営企業会計等の財政状況（単位：百万円） | BR25: 19
B26: 会計名 | R26: 総収益 （歳入） | W26: 総費用 （歳出） | AB26: 純損益 （形式収支） | AG26: 資金剰余額/不足額 （実質収支） | AL26: 他会計等からの 繰入金 | AQ26: 企業債（地方債）現在高 | AV26: 左のうち 一般会計等 繰入見込額 | BA26: 資金不足比率 | BF26: 備考 | BR26: 20
BR27: 21
B28: 1 | C28: 国民健康保険特別会計 | R28: 1012 | W28: 949 | AB28: 63 | AG28: 63 | AV28: － | BR28: 22
B29: 2 | C29: 老人保健特別会計 | R29: 1 | W29: 1 | AB29: 0 | AG29: - | AV29: － | BR29: 23
B30: 3 | C30: 介護保険特別会計 | R30: 457 | W30: 391 | AB30: 66 | AG30: 67 | AV30: － | BR30: 24
B31: 4 | C31: 後期高齢者医療特別会計 | R31: 77 | W31: 77 | AB31: 0 | AG31: 0 | AV31: － | BR31: 25
B32: 5 | C32: 水道事業会計 | R32: 234 | W32: 216 | AB32: 19 | AG32: 613 | AL32: 1 | AQ32: 37 | AV32: － | BF32: 法適用企業 | BR32: 26
B33: 6 | C33: 温泉温水供給事業会計 | R33: 448 | W33: 405 | AB33: 43 | AG33: 715 | AV33: － | BF33: 法適用企業 | BR33: 27
B34: 7 | C34: 千客万来事業会計 | R34: 461 | W34: 546 | AB34: -86 | AG34: 339 | AQ34: 276 | AV34: － | BF34: 法適用企業 | BR34: 28
B35: 8 | C35: 公共下水道事業特別会計 | R35: 248 | W35: 170 | AB35: 78 | AG35: 56 | AL35: 70 | AQ35: 407 | AV35: 303 | BF35: 法非適用企業 | BR35: 29
B36: 9 | C36: 前口簡易水道事業特別会計 | R36: 5 | W36: 4 | AB36: 1 | AG36: 1 | AV36: － | BF36: 法非適用企業 | BR36: 30
B37: 10 | BR37: 31
B38: 11 | BR38: 32
B39: 12 | BR39: 33
B40: 13 | BR40: 34
B41: 14 | BR41: 35
B42: 15 | BR42: 36
B43: 16 | BR43: 37
B44: 17 | BR44: 38
...

Sheet 財政比較分析表

Sheet 経常経費分析表（経常収支比率の分析）

Sheet 経常経費分析表（人件費・公債費・普通建設事業費の分析）
A5: 人件費及び人件費に準ずる費用の分析
G6: 人件費及び人件費に準ずる費用
K7: 当該団体決算額 （千円） | M7: 人口1人当たり決算額
L8: 当該団体（円） | M8: 類似団体平均（円） | N8: 対比（％）
G9: 人件費 | K9: 836648 | L9: 119096 | M9: 109877 | N9: 8.4
G10: 賃金（物件費） | K10: 40231 | L10: 5727 | M10: 9202 | N10: -37.8
G11: 一部事務組合負担金（補助費等） | K11: 122344 | L11: 17416 | M11: 15856 | N11: 9.8
G12: 公営企業（法適）等に対する繰出し（補助費等） | K12: 1558 | L12: 222 | M12: 1216 | N12: -81.7
G13: 公営企業（法適）等に対する繰出し（投資及び出資金・貸付金） | K13: - | L13: - | M13: - | N13: -
G14: 公営企業（法非適）等に対する繰出し（繰出金） | K14: 53500 | L14: 7616 | M14: 5219 | N14: 45.9
G15: 事業費支弁に係る職員の人件費（投資的経費） | K15: 19772 | L15: 2815 | M15: 2153 | N15: 30.7
G16: ▲退職金 | K16: -89330 | L16: -12716 | M16: -12313 | N16: 3.3
G17: 合計 | K17: 984723 | L17: 140174 | M17: 131209 | N17: 6.8
G19: 参考
K20: 当該団体 | L20: 類似団体平均 | M20: 対比（差引）
G21: 人口1,000人当たり職員数（人） | K21: 13.38 | L21: 12.15 | M21: 1.23
G22: ラスパイレス指数 | K22: 93.8 | L22: 94.2 | M22: -0.4
A28: 公債費及び公債費に準ずる費用の分析
G29: 公債費及び公債費に準ずる費用（実質公債費比率の構成要素）
K30: 当該団体決算額 （千円） | M30: 人口1人当たり決算額
L31: 当該団体（円） | M31: 類似団体平均（円） | N31: 対比（％）
G32: 元利償還金の額 （繰上償還額等を除く） | K32: 356484 | L32: 50745 | M32: 74258 | N32: -31.7
G33: 積立不足額を考慮して算定した額 | K33: - | L33: - | M33: - | N33: -
G34: 満期一括償還地方債の一年当たりの元金償還金に相当するもの （年度割相当額） | K34: - | L34: - | M34: - | N34: -
G35: 公営企業債の償還の財源に充てたと認められる繰入金 | K35: 29287 | L35: 4169 | M35: 18048 | N35: -76.9
G36: 一部事務組合等の起こした地方債に充てたと認められる補助金又は負担金に充当する一般財源等額 | K36: 39539 | L36: 5628 | M36: 7200 | N36: -21.8
G37: 債務負担行為に基づく支出のうち公債費に準ずるものに充当する 一般財源等額 | K37: 81818 | L37: 11647 | M37: 2360 | N37: 393.5
G38: 一時借入金利子 （同一団体における会計間の現金運用に係る利子は除く） | K38: - | L38: - | M38: 15 | N38: -
G39: ▲特定財源の額 | K39: -85333 | L39: -12147 | M39: -4034 | N39: 201.1
G40: ▲地方債に係る元利償還金及び準元利償還金に要する経費として 普通交付税の額の算定に用いる基準財政需要額に算入された額 | K40: -191201 | L40: -27217 | M40: -59552 | N40: -54.3
G41: 合計 | K41: 230594 | L41: 32825 | M41: 38295 | N41: -14.3
G42: ※平成23年度中に市町村合併した団体で、合併前の団体ごとの決算に基づく実質公債費比率を算出していない団体については、グラフを表記しない。
A47: （参考） 普通建設事業費の分析
G48: 普通建設事業費
I49: 当該団体決算額 （千円） | J49: 人口１人当たり決算額
J50: 当該団体(円) | K50: 増減率(%)(A) | L50: 類似団体平均(円) | M50: 増減率(%)(B) | N50: (A)-(B)
G51: H18 | I51: 439841 | J51: 60236 | K51: -10.2 | L51: 87174 | M51: -15.1 | N51: 4.9
H52: うち単独分 | I52: 269410 | J52: 36895 | K52: 3.1 | L52: 48477 | M52: -18.4 | N52: 21.5
G53: H19 | I53: 473249 | J53: 65656 | K53: 9 | L53: 86616 | M53: -0.6 | N53: 9.6
H54: うち単独分 | I54: 212903 | J54: 29537 | K54: -19.9 | L54: 49776 | M54: 2.7 | N54: -22.6
...

Sheet 実質収支比率等に係る経年分析
J45: 標準財政規模比（％）
B46: 区分 | E46: 年度 | F46: H18 | G46: H19 | H46: H20 | I46: H21 | J46: H22
C47: 財政調整基金残高 | F47: 46.4 | G47: 37.52 | H47: 42.36 | I47: 43.65 | J47: 34.1
C48: 実質収支額 | F48: 7 | G48: 10.93 | H48: 7.31 | I48: 5.65 | J48: 6.17
C49: 実質単年度収支 | F49: ▲ 3.41 | G49: ▲ 5.35 | H49: ▲ 4.03 | I49: ▲ 3.74 | J49: ▲ 10.90

Sheet 連結実質赤字比率に係る赤字・黒字の構成分析
J32: 標準財政規模比（％）
B33: 会計 | E33: 年度 | F33: H18 | G33: H19 | H33: H20 | I33: H21 | J33: H22
C34: 温泉温水供給事業会計 | F34: - | G34: 41.55 | H34: 42.05 | I34: 45.05 | J34: 31.92
C35: 水道事業会計 | F35: - | G35: 27.21 | H35: 28.62 | I35: 31.3 | J35: 27.36
C36: 千客万来事業会計 | F36: - | G36: 6.59 | H36: 9.06 | I36: 14.99 | J36: 15.14
C37: 一般会計 | F37: - | G37: 10.93 | H37: 7.37 | I37: 5.7 | J37: 6.22
C38: 介護保険特別会計 | F38: - | G38: 2.63 | H38: 2.4 | I38: 2.29 | J38: 2.98
C39: 国民健康保険特別会計 | F39: - | G39: 1.88 | H39: 2.08 | I39: 3.49 | J39: 2.83
C40: 公共下水道事業特別会計 | F40: - | G40: 1.29 | H40: 1.17 | I40: 1.3 | J40: 2.51
C41: 前口簡易水道事業特別会計 | F41: - | G41: 0.07 | H41: 0.06 | I41: 0.1 | J41: 0.05
C42: その他会計（赤字） | F42: - | G42: - | H42: - | I42: - | J42: -
C43: その他会計（黒字） | F43: - | G43: 0.43 | H43: 0.14 | I43: 0.08 | J43: 0.02
B44: ※平成23年度中に市町村合併した団体で、合併前の団体ごとの決算に基づく連結実質赤字比率を算出していない団体については、グラフを表記しない。

Sheet 実質公債費比率（分子）の構造
O43: （百万円）
B44: 分子の構造 | J44: 年度 | K44: H18 | L44: H19 | M44: H20 | N44: H21 | O44: H22
B45: 元利償還金等(A) | E45: 元利償還金 | K45: - | L45: 198 | M45: 212 | N45: 342 | O45: 356
E46: 積立不足額考慮算定額 | K46: - | L46: - | M46: - | N46: - | O46: -
E47: 満期一括償還地方債に係る年度割相当額 | K47: - | L47: - | M47: - | N47: - | O47: -
E48: 公営企業債の元利償還金に対する繰入金 | K48: - | L48: 36 | M48: 35 | N48: 33 | O48: 29
E49: 組合等が起こした地方債の元利償還金に対する負担金等 | K49: - | L49: 39 | M49: 36 | N49: 44 | O49: 40
E50: 債務負担行為に基づく支出額 | K50: - | L50: 81 | M50: 82 | N50: 82 | O50: 82
E51: 一時借入金利子 | K51: - | L51: - | M51: - | N51: - | O51: -
B52: 算入公債費等(B) | E52: 算入公債費等 | K52: - | L52: 160 | M52: 173 | N52: 282 | O52: 276
B53: (A)－(B) | E53: 実質公債費比率の分子 | K53: - | L53: 194 | M53: 192 | N53: 219 | O53: 231
B54: ※平成19年度決算と平成20年度決算の元利償還金は特定財源の額を控除しており、満期一括償還地方債に係る年度割相当額は積立不足額を考慮して算定した額を含んでいる。
B55: ※平成23年度中に市町村合併した団体で、合併前の団体ごとの決算に基づく実質公債費比率を算出していない団体については、グラフを表記しない。

Sheet 将来負担比率（分子）の構造
M39: （百万円）
B40: 分子の構造 | H40: 年度 | I40: H18 | J40: H19 | K40: H20 | L40: H21 | M40: H22
B41: 将来負担額(A) | E41: 一般会計等に係る地方債の現在高 | I41: - | J41: 2667 | K41: 2536 | L41: 2584 | M41: 2611
E42: 債務負担行為に基づく支出予定額 | I42: - | J42: 518 | K42: 436 | L42: 354 | M42: 272
E43: 公営企業債等繰入見込額 | I43: - | J43: 128 | K43: 191 | L43: 261 | M43: 303
E44: 組合等負担等見込額 | I44: - | J44: 675 | K44: 641 | L44: 610 | M44: 583
E45: 退職手当負担見込額 | I45: - | J45: 1625 | K45: 2015 | L45: 2020 | M45: 1987
E46: 設立法人等の負債額等負担見込額 | I46: - | J46: 94 | K46: 77 | L46: 23 | M46: 25
E47: 連結実質赤字額 | I47: - | J47: - | K47: - | L47: - | M47: -
E48: 組合等連結実質赤字額負担見込額 | I48: - | J48: - | K48: - | L48: - | M48: -
B49: 充当可能財源等(B) | E49: 充当可能基金 | I49: - | J49: 1327 | K49: 1561 | L49: 1580 | M49: 1376
E50: 充当可能特定歳入 | I50: - | J50: 604 | K50: 588 | L50: 555 | M50: 477
E51: 基準財政需要額算入見込額 | I51: - | J51: 2250 | K51: 2265 | L51: 2354 | M51: 2501
B52: (A)－(B) | E52: 将来負担比率の分子 | I52: - | J52: 1526 | K52: 1481 | L52: 1362 | M52: 1428
B53: ※平成23年度中に市町村合併した団体で、合併前の団体ごとの決算に基づく将来負担比率を算出していない団体については、グラフを表記しない。

Sheet データシート
D2: 当該団体(円) | F2: 類似団体内平均(円)
A3: H18 | D3: 60236 | F3: 87174
D4: 36895 | F4: 48477
A5: H19 | D5: 65656 | F5: 86616
D6: 29537 | F6: 49776
A7: H20 | D7: 58454 | F7: 82258
D8: 36713 | F8: 43997
A9: H21 | D9: 83827 | F9: 109234
D10: 59059 | F10: 63976
A11: H22 | D11: 102370 | F11: 121932
D12: 73018 | F12: 68430
D13: 74109 | F13: 97443
D14: 47044 | F14: 54931
A17: 実質収支比率等に係る経年分析
A18: 年度 | B18: =実質収支比率等に係る経年分析!F$46 -> H18 | C18: =実質収支比率等に係る経年分析!G$46 -> H19 | D18: =実質収支比率等に係る経年分析!H$46 -> H20 | E18: =実質収支比率等に係る経年分析!I$46 -> H21 | F18: =実質収支比率等に係る経年分析!J$46 -> H22
A19: 実質収支額 | B19: =ROUND(VALUE(SUBSTITUTE(実質収支比率等に係る経年分析!F$48,"▲","-")),2) -> 7 | C19: =ROUND(VALUE(SUBSTITUTE(実質収支比率等に係る経年分析!G$48,"▲","-")),2) -> 10.93 | D19: =ROUND(VALUE(SUBSTITUTE(実質収支比率等に係る経年分析!H$48,"▲","-")),2) -> 7.31 | E19: =ROUND(VALUE(SUBSTITUTE(実質収支比率等に係る経年分析!I$48,"▲","-")),2) -> 5.65 | F19: =ROUND(VALUE(SUBSTITUTE(実質収支比率等に係る経年分析!J$48,"▲","-")),2) -> 6.17
A20: 財政調整基金残高 | B20: =ROUND(VALUE(SUBSTITUTE(実質収支比率等に係る経年分析!F$47,"▲","-")),2) -> 46.4 | C20: =ROUND(VALUE(SUBSTITUTE(実質収支比率等に係る経年分析!G$47,"▲","-")),2) -> 37.52 | D20: =ROUND(VALUE(SUBSTITUTE(実質収支比率等に係る経年分析!H$47,"▲","-")),2) -> 42.36 | E20: =ROUND(VALUE(SUBSTITUTE(実質収支比率等に係る経年分析!I$47,"▲","-")),2) -> 43.65 | F20: =ROUND(VALUE(SUBSTITUTE(実質収支比率等に係る経年分析!J$47,"▲","-")),2) -> 34.1
A21: 実質単年度収支 | B21: =IF(ISNUMBER(VALUE(SUBSTITUTE(実質収支比率等に係る経年分析!F$49,"▲","-"))),ROUND(VALUE(SUBSTITUTE(実質収支比率等に係る経年分析!F$49,"▲","-")),2),NA()) -> -3.41 | C21: =IF(ISNUMBER(VALUE(SUBSTITUTE(実質収支比率等に係る経年分析!G$49,"▲","-"))),ROUND(VALUE(SUBSTITUTE(実質収支比率等に係る経年分析!G$49,"▲","-")),2),NA()) -> -5.35 | D21: =IF(ISNUMBER(VALUE(SUBSTITUTE(実質収支比率等に係る経年分析!H$49,"▲","-"))),ROUND(VALUE(SUBSTITUTE(実質収支比率等に係る経年分析!H$49,"▲","-")),2),NA()) -> -4.03 | E21: =IF(ISNUMBER(VALUE(SUBSTITUTE(実質収支比率等に係る経年分析!I$49,"▲","-"))),ROUND(VALUE(SUBSTITUTE(実質収支比率等に係る経年分析!I$49,"▲","-")),2),NA()) -> -3.74 | F21: =IF(ISNUMBER(VALUE(SUBSTITUTE(実質収支比率等に係る経年分析!J$49,"▲","-"))),ROUND(VALUE(SUBSTITUTE(実質収支比率等に係る経年分析!J$49,"▲","-")),2),NA()) -> -10.9
A24: 連結実質赤字比率に係る赤字・黒字の構成分析
B25: =連結実質赤字比率に係る赤字・黒字の構成分析!F$33 -> H18 | D25: =連結実質赤字比率に係る赤字・黒字の構成分析!G$33 -> H19 | F25: =連結実質赤字比率に係る赤字・黒字の構成分析!H$33 -> H20 | H25: =連結実質赤字比率に係る赤字・黒字の構成分析!I$33 -> H21 | J25: =連結実質赤字比率に係る赤字・黒字の構成分析!J$33 -> H22
B26: 赤字額 | C26: 黒字額 | D26: 赤字額 | E26: 黒字額 | F26: 赤字額 | G26: 黒字額 | H26: 赤字額 | I26: 黒字額 | J26: 赤字額 | K26: 黒字額
A27: =IF(連結実質赤字比率に係る赤字・黒字の構成分析!C$43="",NA(),連結実質赤字比率に係る赤字・黒字の構成分析!C$43) -> その他会計（黒字） | B27: =IF(ROUND(VALUE(SUBSTITUTE(連結実質赤字比率に係る赤字・黒字の構成分析!F$43,"▲", "-")), 2) < 0, ABS(ROUND(VALUE(SUBSTITUTE(連結実質赤字比率に係る赤字・黒字の構成分析!F$43,"▲", "-")), 2)), NA()) -> #VALUE! | C27: =IF(ROUND(VALUE(SUBSTITUTE(連結実質赤字比率に係る赤字・黒字の構成分析!F$43,"▲", "-")), 2) >= 0, ABS(ROUND(VALUE(SUBSTITUTE(連結実質赤字比率に係る赤字・黒字の構成分析!F$43,"▲", "-")), 2)), NA()) -> #VALUE! | D27: =IF(ROUND(VALUE(SUBSTITUTE(連結実質赤字比率に係る赤字・黒字の構成分析!G$43,"▲", "-")), 2) < 0, ABS(ROUND(VALUE(SUBSTITUTE(連結実質赤字比率に係る赤字・黒字の構成分析!G$43,"▲", "-")), 2)), NA()) -> #N/A | E27: =IF(ROUND(VALUE(SUBSTITUTE(連結実質赤字比率に係る赤字・黒字の構成分析!G$43,"▲", "-")), 2) >= 0, ABS(ROUND(VALUE(SUBSTITUTE(連結実質赤字比率に係る赤字・黒字の構成分析!G$43,"▲", "-")), 2)), NA()) -> 0.43 | F27: =IF(ROUND(VALUE(SUBSTITUTE(連結実質赤字比率に係る赤字・黒字の構成分析!H$43,"▲", "-")), 2) < 0, ABS(ROUND(VALUE(SUBSTITUTE(連結実質赤字比率に係る赤字・黒字の構成分析!H$43,"▲", "-")), 2)), NA()) -> #N/A | G27: =IF(ROUND(VALUE(SUBSTITUTE(連結実質赤字比率に係る赤字・黒字の構成分析!H$43,"▲", "-")), 2) >= 0, ABS(ROUND(VALUE(SUBSTITUTE(連結実質赤字比率に係る赤字・黒字の構成分析!H$43,"▲", "-")), 2)), NA()) -> 0.14 | H27: =IF(ROUND(VALUE(SUBSTITUTE(連結実質赤字比率に係る赤字・黒字の構成分析!I$43,"▲", "-")), 2) < 0, ABS(ROUND(VALUE(SUBSTITUTE(連結実質赤字比率に係る赤字・黒字の構成分析!I$43,"▲", "-")), 2)), NA()) -> #N/A | I27: =IF(ROUND(VALUE(SUBSTITUTE(連結実質赤字比率に係る赤字・黒字の構成分析!I$43,"▲", "-")), 2) >= 0, ABS(ROUND(VALUE(SUBSTITUTE(連結実質赤字比率に係る赤字・黒字の構成分析!I$43,"▲", "-")), 2)), NA()) -> 0.08 | J27: =IF(ROUND(VALUE(SUBSTITUTE(連結実質赤字比率に係る赤字・黒字の構成分析!J$43,"▲", "-")), 2) < 0, ABS(ROUND(VALUE(SUBSTITUTE(連結実質赤字比率に係る赤字・黒字の構成分析!J$43,"▲", "-")), 2)), NA()) -> #N/A | K27: =IF(ROUND(VALUE(SUBSTITUTE(連結実質赤字比率に係る赤字・黒字の構成分析!J$43,"▲", "-")), 2) >= 0, ABS(ROUND(VALUE(SUBSTITUTE(連結実質赤字比率に係る赤字・黒字の構成分析!J$43,"▲", "-")), 2)), NA()) -> 0.02
A28: =IF(連結実質赤字比率に係る赤字・黒字の構成分析!C$42="",NA(),連結実質赤字比率に係る赤字・黒字の構成分析!C$42) -> その他会計（赤字） | B28: =IF(ROUND(VALUE(SUBSTITUTE(連結実質赤字比率に係る赤字・黒字の構成分析!F$42,"▲", "-")), 2) < 0, ABS(ROUND(VALUE(SUBSTITUTE(連結実質赤字比率に係る赤字・黒字の構成分析!F$42,"▲", "-")), 2)), NA()) -> #VALUE! | C28: =IF(ROUND(VALUE(SUBSTITUTE(連結実質赤字比率に係る赤字・黒字の構成分析!F$42,"▲", "-")), 2) >= 0, ABS(ROUND(VALUE(SUBSTITUTE(連結実質赤字比率に係る赤字・黒字の構成分析!F$42,"▲", "-")), 2)), NA()) -> #VALUE! | D28: =IF(ROUND(VALUE(SUBSTITUTE(連結実質赤字比率に係る赤字・黒字の構成分析!G$42,"▲", "-")), 2) < 0, ABS(ROUND(VALUE(SUBSTITUTE(連結実質赤字比率に係る赤字・黒字の構成分析!G$42,"▲", "-")), 2)), NA()) -> #VALUE! | E28: =IF(ROUND(VALUE(SUBSTITUTE(連結実質赤字比率に係る赤字・黒字の構成分析!G$42,"▲", "-")), 2) >= 0, ABS(ROUND(VALUE(SUBSTITUTE(連結実質赤字比率に係る赤字・黒字の構成分析!G$42,"▲", "-")), 2)), NA()) -> #VALUE! | F28: =IF(ROUND(VALUE(SUBSTITUTE(連結実質赤字比率に係る赤字・黒字の構成分析!H$42,"▲", "-")), 2) < 0, ABS(ROUND(VALUE(SUBSTITUTE(連結実質赤字比率に係る赤字・黒字の構成分析!H$42,"▲", "-")), 2)), NA()) -> #VALUE! | G28: =IF(ROUND(VALUE(SUBSTITUTE(連結実質赤字比率に係る赤字・黒字の構成分析!H$42,"▲", "-")), 2) >= 0, ABS(ROUND(VALUE(SUBSTITUTE(連結実質赤字比率に係る赤字・黒字の構成分析!H$42,"▲", "-")), 2)), NA()) -> #VALUE! | H28: =IF(ROUND(VALUE(SUBSTITUTE(連結実質赤字比率に係る赤字・黒字の構成分析!I$42,"▲", "-")), 2) < 0, ABS(ROUND(VALUE(SUBSTITUTE(連結実質赤字比率に係る赤字・黒字の構成分析!I$42,"▲", "-")), 2)), NA()) -> #VALUE! | I28: =IF(ROUND(VALUE(SUBSTITUTE(連結実質赤字比率に係る赤字・黒字の構成分析!I$42,"▲", "-")), 2) >= 0, ABS(ROUND(VALUE(SUBSTITUTE(連結実質赤字比率に係る赤字・黒字の構成分析!I$42,"▲", "-")), 2)), NA()) -> #VALUE! | J28: =IF(ROUND(VALUE(SUBSTITUTE(連結実質赤字比率に係る赤字・黒字の構成分析!J$42,"▲", "-")), 2) < 0, ABS(ROUND(VALUE(SUBSTITUTE(連結実質赤字比率に係る赤字・黒字の構成分析!J$42,"▲", "-")), 2)), NA()) -> #VALUE! | K28: =IF(ROUND(VALUE(SUBSTITUTE(連結実質赤字比率に係る赤字・黒字の構成分析!J$42,"▲", "-")), 2) >= 0, ABS(ROUND(VALUE(SUBSTITUTE(連結実質赤字比率に係る赤字・黒字の構成分析!J$42,"▲", "-")), 2)), NA()) -> #VALUE!
A29: =IF(連結実質赤字比率に係る赤字・黒字の構成分析!C$41="",NA(),連結実質赤字比率に係る赤字・黒字の構成分析!C$41) -> 前口簡易水道事業特別会計 | B29: =IF(ROUND(VALUE(SUBSTITUTE(連結実質赤字比率に係る赤字・黒字の構成分析!F$41,"▲", "-")), 2) < 0, ABS(ROUND(VALUE(SUBSTITUTE(連結実質赤字比率に係る赤字・黒字の構成分析!F$41,"▲", "-")), 2)), NA()) -> #VALUE! | C29: =IF(ROUND(VALUE(SUBSTITUTE(連結実質赤字比率に係る赤字・黒字の構成分析!F$41,"▲", "-")), 2) >= 0, ABS(ROUND(VALUE(SUBSTITUTE(連結実質赤字比率に係る赤字・黒字の構成分析!F$41,"▲", "-")), 2)), NA()) -> #VALUE! | D29: =IF(ROUND(VALUE(SUBSTITUTE(連結実質赤字比率に係る赤字・黒字の構成分析!G$41,"▲", "-")), 2) < 0, ABS(ROUND(VALUE(SUBSTITUTE(連結実質赤字比率に係る赤字・黒字の構成分析!G$41,"▲", "-")), 2)), NA()) -> #N/A | E29: =IF(ROUND(VALUE(SUBSTITUTE(連結実質赤字比率に係る赤字・黒字の構成分析!G$41,"▲", "-")), 2) >= 0, ABS(ROUND(VALUE(SUBSTITUTE(連結実質赤字比率に係る赤字・黒字の構成分析!G$41,"▲", "-")), 2)), NA()) -> 0.07 | F29: =IF(ROUND(VALUE(SUBSTITUTE(連結実質赤字比率に係る赤字・黒字の構成分析!H$41,"▲", "-")), 2) < 0, ABS(ROUND(VALUE(SUBSTITUTE(連結実質赤字比率に係る赤字・黒字の構成分析!H$41,"▲", "-")), 2)), NA()) -> #N/A | G29: =IF(ROUND(VALUE(SUBSTITUTE(連結実質赤字比率に係る赤字・黒字の構成分析!H$41,"▲", "-")), 2) >= 0, ABS(ROUND(VALUE(SUBSTITUTE(連結実質赤字比率に係る赤字・黒字の構成分析!H$41,"▲", "-")), 2)), NA()) -> 0.06 | H29: =IF(ROUND(VALUE(SUBSTITUTE(連結実質赤字比率に係る赤字・黒字の構成分析!I$41,"▲", "-")), 2) < 0, ABS(ROUND(VALUE(SUBSTITUTE(連結実質赤字比率に係る赤字・黒字の構成分析!I$41,"▲", "-")), 2)), NA()) -> #N/A | I29: =IF(ROUND(VALUE(SUBSTITUTE(連結実質赤字比率に係る赤字・黒字の構成分析!I$41,"▲", "-")), 2) >= 0, ABS(ROUND(VALUE(SUBSTITUTE(連結実質赤字比率に係る赤字・黒字の構成分析!I$41,"▲", "-")), 2)), NA()) -> 0.1 | J29: =IF(ROUND(VALUE(SUBSTITUTE(連結実質赤字比率に係る赤字・黒字の構成分析!J$41,"▲", "-")), 2) < 0, ABS(ROUND(VALUE(SUBSTITUTE(連結実質赤字比率に係る赤字・黒字の構成分析!J$41,"▲", "-")), 2)), NA()) -> #N/A | K29: =IF(ROUND(VALUE(SUBSTITUTE(連結実質赤字比率に係る赤字・黒字の構成分析!J$41,"▲", "-")), 2) >= 0, ABS(ROUND(VALUE(SUBSTITUTE(連結実質赤字比率に係る赤字・黒字の構成分析!J$41,"▲", "-")), 2)), NA()) -> 0.05
A30: =IF(連結実質赤字比率に係る赤字・黒字の構成分析!C$40="",NA(),連結実質赤字比率に係る赤字・黒字の構成分析!C$40) -> 公共下水道事業特別会計 | B30: =IF(ROUND(VALUE(SUBSTITUTE(連結実質赤字比率に係る赤字・黒字の構成分析!F$40,"▲", "-")), 2) < 0, ABS(ROUND(VALUE(SUBSTITUTE(連結実質赤字比率に係る赤字・黒字の構成分析!F$40,"▲", "-")), 2)), NA()) -> #VALUE! | C30: =IF(ROUND(VALUE(SUBSTITUTE(連結実質赤字比率に係る赤字・黒字の構成分析!F$40,"▲", "-")), 2) >= 0, ABS(ROUND(VALUE(SUBSTITUTE(連結実質赤字比率に係る赤字・黒字の構成分析!F$40,"▲", "-")), 2)), NA()) -> #VALUE! | D30: =IF(ROUND(VALUE(SUBSTITUTE(連結実質赤字比率に係る赤字・黒字の構成分析!G$40,"▲", "-")), 2) < 0, ABS(ROUND(VALUE(SUBSTITUTE(連結実質赤字比率に係る赤字・黒字の構成分析!G$40,"▲", "-")), 2)), NA()) -> #N/A | E30: =IF(ROUND(VALUE(SUBSTITUTE(連結実質赤字比率に係る赤字・黒字の構成分析!G$40,"▲", "-")), 2) >= 0, ABS(ROUND(VALUE(SUBSTITUTE(連結実質赤字比率に係る赤字・黒字の構成分析!G$40,"▲", "-")), 2)), NA()) -> 1.29 | F30: =IF(ROUND(VALUE(SUBSTITUTE(連結実質赤字比率に係る赤字・黒字の構成分析!H$40,"▲", "-")), 2) < 0, ABS(ROUND(VALUE(SUBSTITUTE(連結実質赤字比率に係る赤字・黒字の構成分析!H$40,"▲", "-")), 2)), NA()) -> #N/A | G30: =IF(ROUND(VALUE(SUBSTITUTE(連結実質赤字比率に係る赤字・黒字の構成分析!H$40,"▲", "-")), 2) >= 0, ABS(ROUND(VALUE(SUBSTITUTE(連結実質赤字比率に係る赤字・黒字の構成分析!H$40,"▲", "-")), 2)), NA()) -> 1.17 | H30: =IF(ROUND(VALUE(SUBSTITUTE(連結実質赤字比率に係る赤字・黒字の構成分析!I$40,"▲", "-")), 2) < 0, ABS(ROUND(VALUE(SUBSTITUTE(連結実質赤字比率に係る赤字・黒字の構成分析!I$40,"▲", "-")), 2)), NA()) -> #N/A | I30: =IF(ROUND(VALUE(SUBSTITUTE(連結実質赤字比率に係る赤字・黒字の構成分析!I$40,"▲", "-")), 2) >= 0, ABS(ROUND(VALUE(SUBSTITUTE(連結実質赤字比率に係る赤字・黒字の構成分析!I$40,"▲", "-")), 2)), NA()) -> 1.3 | J30: =IF(ROUND(VALUE(SUBSTITUTE(連結実質赤字比率に係る赤字・黒字の構成分析!J$40,"▲", "-")), 2) < 0, ABS(ROUND(VALUE(SUBSTITUTE(連結実質赤字比率に係る赤字・黒字の構成分析!J$40,"▲", "-")), 2)), NA()) -> #N/A | K30: =IF(ROUND(VALUE(SUBSTITUTE(連結実質赤字比率に係る赤字・黒字の構成分析!J$40,"▲", "-")), 2) >= 0, ABS(ROUND(VALUE(SUBSTITUTE(連結実質赤字比率に係る赤字・黒字の構成分析!J$40,"▲", "-")), 2)), NA()) -> 2.51
A31: =IF(連結実質赤字比率に係る赤字・黒字の構成分析!C$39="",NA(),連結実質赤字比率に係る赤字・黒字の構成分析!C$39) -> 国民健康保険特別会計 | B31: =IF(ROUND(VALUE(SUBSTITUTE(連結実質赤字比率に係る赤字・黒字の構成分析!F$39,"▲", "-")), 2) < 0, ABS(ROUND(VALUE(SUBSTITUTE(連結実質赤字比率に係る赤字・黒字の構成分析!F$39,"▲", "-")), 2)), NA()) -> #VALUE! | C31: =IF(ROUND(VALUE(SUBSTITUTE(連結実質赤字比率に係る赤字・黒字の構成分析!F$39,"▲", "-")), 2) >= 0, ABS(ROUND(VALUE(SUBSTITUTE(連結実質赤字比率に係る赤字・黒字の構成分析!F$39,"▲", "-")), 2)), NA()) -> #VALUE! | D31: =IF(ROUND(VALUE(SUBSTITUTE(連結実質赤字比率に係る赤字・黒字の構成分析!G$39,"▲", "-")), 2) < 0, ABS(ROUND(VALUE(SUBSTITUTE(連結実質赤字比率に係る赤字・黒字の構成分析!G$39,"▲", "-")), 2)), NA()) -> #N/A | E31: =IF(ROUND(VALUE(SUBSTITUTE(連結実質赤字比率に係る赤字・黒字の構成分析!G$39,"▲", "-")), 2) >= 0, ABS(ROUND(VALUE(SUBSTITUTE(連結実質赤字比率に係る赤字・黒字の構成分析!G$39,"▲", "-")), 2)), NA()) -> 1.88 | F31: =IF(ROUND(VALUE(SUBSTITUTE(連結実質赤字比率に係る赤字・黒字の構成分析!H$39,"▲", "-")), 2) < 0, ABS(ROUND(VALUE(SUBSTITUTE(連結実質赤字比率に係る赤字・黒字の構成分析!H$39,"▲", "-")), 2)), NA()) -> #N/A | G31: =IF(ROUND(VALUE(SUBSTITUTE(連結実質赤字比率に係る赤字・黒字の構成分析!H$39,"▲", "-")), 2) >= 0, ABS(ROUND(VALUE(SUBSTITUTE(連結実質赤字比率に係る赤字・黒字の構成分析!H$39,"▲", "-")), 2)), NA()) -> 2.08 | H31: =IF(ROUND(VALUE(SUBSTITUTE(連結実質赤字比率に係る赤字・黒字の構成分析!I$39,"▲", "-")), 2) < 0, ABS(ROUND(VALUE(SUBSTITUTE(連結実質赤字比率に係る赤字・黒字の構成分析!I$39,"▲", "-")), 2)), NA()) -> #N/A | I31: =IF(ROUND(VALUE(SUBSTITUTE(連結実質赤字比率に係る赤字・黒字の構成分析!I$39,"▲", "-")), 2) >= 0, ABS(ROUND(VALUE(SUBSTITUTE(連結実質赤字比率に係る赤字・黒字の構成分析!I$39,"▲", "-")), 2)), NA()) -> 3.49 | J31: =IF(ROUND(VALUE(SUBSTITUTE(連結実質赤字比率に係る赤字・黒字の構成分析!J$39,"▲", "-")), 2) < 0, ABS(ROUND(VALUE(SUBSTITUTE(連結実質赤字比率に係る赤字・黒字の構成分析!J$39,"▲", "-")), 2)), NA()) -> #N/A | K31: =IF(ROUND(VALUE(SUBSTITUTE(連結実質赤字比率に係る赤字・黒字の構成分析!J$39,"▲", "-")), 2) >= 0, ABS(ROUND(VALUE(SUBSTITUTE(連結実質赤字比率に係る赤字・黒字の構成分析!J$39,"▲", "-")), 2)), NA()) -> 2.83
A32: =IF(連結実質赤字比率に係る赤字・黒字の構成分析!C$38="",NA(),連結実質赤字比率に係る赤字・黒字の構成分析!C$38) -> 介護保険特別会計 | B32: =IF(ROUND(VALUE(SUBSTITUTE(連結実質赤字比率に係る赤字・黒字の構成分析!F$38,"▲", "-")), 2) < 0, ABS(ROUND(VALUE(SUBSTITUTE(連結実質赤字比率に係る赤字・黒字の構成分析!F$38,"▲", "-")), 2)), NA()) -> #VALUE! | C32: =IF(ROUND(VALUE(SUBSTITUTE(連結実質赤字比率に係る赤字・黒字の構成分析!F$38,"▲", "-")), 2) >= 0, ABS(ROUND(VALUE(SUBSTITUTE(連結実質赤字比率に係る赤字・黒字の構成分析!F$38,"▲", "-")), 2)), NA()) -> #VALUE! | D32: =IF(ROUND(VALUE(SUBSTITUTE(連結実質赤字比率に係る赤字・黒字の構成分析!G$38,"▲", "-")), 2) < 0, ABS(ROUND(VALUE(SUBSTITUTE(連結実質赤字比率に係る赤字・黒字の構成分析!G$38,"▲", "-")), 2)), NA()) -> #N/A | E32: =IF(ROUND(VALUE(SUBSTITUTE(連結実質赤字比率に係る赤字・黒字の構成分析!G$38,"▲", "-")), 2) >= 0, ABS(ROUND(VALUE(SUBSTITUTE(連結実質赤字比率に係る赤字・黒字の構成分析!G$38,"▲", "-")), 2)), NA()) -> 2.63 | F32: =IF(ROUND(VALUE(SUBSTITUTE(連結実質赤字比率に係る赤字・黒字の構成分析!H$38,"▲", "-")), 2) < 0, ABS(ROUND(VALUE(SUBSTITUTE(連結実質赤字比率に係る赤字・黒字の構成分析!H$38,"▲", "-")), 2)), NA()) -> #N/A | G32: =IF(ROUND(VALUE(SUBSTITUTE(連結実質赤字比率に係る赤字・黒字の構成分析!H$38,"▲", "-")), 2) >= 0, ABS(ROUND(VALUE(SUBSTITUTE(連結実質赤字比率に係る赤字・黒字の構成分析!H$38,"▲", "-")), 2)), NA()) -> 2.4 | H32: =IF(ROUND(VALUE(SUBSTITUTE(連結実質赤字比率に係る赤字・黒字の構成分析!I$38,"▲", "-")), 2) < 0, ABS(ROUND(VALUE(SUBSTITUTE(連結実質赤字比率に係る赤字・黒字の構成分析!I$38,"▲", "-")), 2)), NA()) -> #N/A | I32: =IF(ROUND(VALUE(SUBSTITUTE(連結実質赤字比率に係る赤字・黒字の構成分析!I$38,"▲", "-")), 2) >= 0, ABS(ROUND(VALUE(SUBSTITUTE(連結実質赤字比率に係る赤字・黒字の構成分析!I$38,"▲", "-")), 2)), NA()) -> 2.29 | J32: =IF(ROUND(VALUE(SUBSTITUTE(連結実質赤字比率に係る赤字・黒字の構成分析!J$38,"▲", "-")), 2) < 0, ABS(ROUND(VALUE(SUBSTITUTE(連結実質赤字比率に係る赤字・黒字の構成分析!J$38,"▲", "-")), 2)), NA()) -> #N/A | K32: =IF(ROUND(VALUE(SUBSTITUTE(連結実質赤字比率に係る赤字・黒字の構成分析!J$38,"▲", "-")), 2) >= 0, ABS(ROUND(VALUE(SUBSTITUTE(連結実質赤字比率に係る赤字・黒字の構成分析!J$38,"▲", "-")), 2)), NA()) -> 2.98
A33: =IF(連結実質赤字比率に係る赤字・黒字の構成分析!C$37="",NA(),連結実質赤字比率に係る赤字・黒字の構成分析!C$37) -> 一般会計 | B33: =IF(ROUND(VALUE(SUBSTITUTE(連結実質赤字比率に係る赤字・黒字の構成分析!F$37,"▲", "-")), 2) < 0, ABS(ROUND(VALUE(SUBSTITUTE(連結実質赤字比率に係る赤字・黒字の構成分析!F$37,"▲", "-")), 2)), NA()) -> #VALUE! | C33: =IF(ROUND(VALUE(SUBSTITUTE(連結実質赤字比率に係る赤字・黒字の構成分析!F$37,"▲", "-")), 2) >= 0, ABS(ROUND(VALUE(SUBSTITUTE(連結実質赤字比率に係る赤字・黒字の構成分析!F$37,"▲", "-")), 2)), NA()) -> #VALUE! | D33: =IF(ROUND(VALUE(SUBSTITUTE(連結実質赤字比率に係る赤字・黒字の構成分析!G$37,"▲", "-")), 2) < 0, ABS(ROUND(VALUE(SUBSTITUTE(連結実質赤字比率に係る赤字・黒字の構成分析!G$37,"▲", "-")), 2)), NA()) -> #N/A | E33: =IF(ROUND(VALUE(SUBSTITUTE(連結実質赤字比率に係る赤字・黒字の構成分析!G$37,"▲", "-")), 2) >= 0, ABS(ROUND(VALUE(SUBSTITUTE(連結実質赤字比率に係る赤字・黒字の構成分析!G$37,"▲", "-")), 2)), NA()) -> 10.93 | F33: =IF(ROUND(VALUE(SUBSTITUTE(連結実質赤字比率に係る赤字・黒字の構成分析!H$37,"▲", "-")), 2) < 0, ABS(ROUND(VALUE(SUBSTITUTE(連結実質赤字比率に係る赤字・黒字の構成分析!H$37,"▲", "-")), 2)), NA()) -> #N/A | G33: =IF(ROUND(VALUE(SUBSTITUTE(連結実質赤字比率に係る赤字・黒字の構成分析!H$37,"▲", "-")), 2) >= 0, ABS(ROUND(VALUE(SUBSTITUTE(連結実質赤字比率に係る赤字・黒字の構成分析!H$37,"▲", "-")), 2)), NA()) -> 7.37 | H33: =IF(ROUND(VALUE(SUBSTITUTE(連結実質赤字比率に係る赤字・黒字の構成分析!I$37,"▲", "-")), 2) < 0, ABS(ROUND(VALUE(SUBSTITUTE(連結実質赤字比率に係る赤字・黒字の構成分析!I$37,"▲", "-")), 2)), NA()) -> #N/A | I33: =IF(ROUND(VALUE(SUBSTITUTE(連結実質赤字比率に係る赤字・黒字の構成分析!I$37,"▲", "-")), 2) >= 0, ABS(ROUND(VALUE(SUBSTITUTE(連結実質赤字比率に係る赤字・黒字の構成分析!I$37,"▲", "-")), 2)), NA()) -> 5.7 | J33: =IF(ROUND(VALUE(SUBSTITUTE(連結実質赤字比率に係る赤字・黒字の構成分析!J$37,"▲", "-")), 2) < 0, ABS(ROUND(VALUE(SUBSTITUTE(連結実質赤字比率に係る赤字・黒字の構成分析!J$37,"▲", "-")), 2)), NA()) -> #N/A | K33: =IF(ROUND(VALUE(SUBSTITUTE(連結実質赤字比率に係る赤字・黒字の構成分析!J$37,"▲", "-")), 2) >= 0, ABS(ROUND(VALUE(SUBSTITUTE(連結実質赤字比率に係る赤字・黒字の構成分析!J$37,"▲", "-")), 2)), NA()) -> 6.22
A34: =IF(連結実質赤字比率に係る赤字・黒字の構成分析!C$36="",NA(),連結実質赤字比率に係る赤字・黒字の構成分析!C$36) -> 千客万来事業会計 | B34: =IF(ROUND(VALUE(SUBSTITUTE(連結実質赤字比率に係る赤字・黒字の構成分析!F$36,"▲", "-")), 2) < 0, ABS(ROUND(VALUE(SUBSTITUTE(連結実質赤字比率に係る赤字・黒字の構成分析!F$36,"▲", "-")), 2)), NA()) -> #VALUE! | C34: =IF(ROUND(VALUE(SUBSTITUTE(連結実質赤字比率に係る赤字・黒字の構成分析!F$36,"▲", "-")), 2) >= 0, ABS(ROUND(VALUE(SUBSTITUTE(連結実質赤字比率に係る赤字・黒字の構成分析!F$36,"▲", "-")), 2)), NA()) -> #VALUE! | D34: =IF(ROUND(VALUE(SUBSTITUTE(連結実質赤字比率に係る赤字・黒字の構成分析!G$36,"▲", "-")), 2) < 0, ABS(ROUND(VALUE(SUBSTITUTE(連結実質赤字比率に係る赤字・黒字の構成分析!G$36,"▲", "-")), 2)), NA()) -> #N/A | E34: =IF(ROUND(VALUE(SUBSTITUTE(連結実質赤字比率に係る赤字・黒字の構成分析!G$36,"▲", "-")), 2) >= 0, ABS(ROUND(VALUE(SUBSTITUTE(連結実質赤字比率に係る赤字・黒字の構成分析!G$36,"▲", "-")), 2)), NA()) -> 6.59 | F34: =IF(ROUND(VALUE(SUBSTITUTE(連結実質赤字比率に係る赤字・黒字の構成分析!H$36,"▲", "-")), 2) < 0, ABS(ROUND(VALUE(SUBSTITUTE(連結実質赤字比率に係る赤字・黒字の構成分析!H$36,"▲", "-")), 2)), NA()) -> #N/A | G34: =IF(ROUND(VALUE(SUBSTITUTE(連結実質赤字比率に係る赤字・黒字の構成分析!H$36,"▲", "-")), 2) >= 0, ABS(ROUND(VALUE(SUBSTITUTE(連結実質赤字比率に係る赤字・黒字の構成分析!H$36,"▲", "-")), 2)), NA()) -> 9.06 | H34: =IF(ROUND(VALUE(SUBSTITUTE(連結実質赤字比率に係る赤字・黒字の構成分析!I$36,"▲", "-")), 2) < 0, ABS(ROUND(VALUE(SUBSTITUTE(連結実質赤字比率に係る赤字・黒字の構成分析!I$36,"▲", "-")), 2)), NA()) -> #N/A | I34: =IF(ROUND(VALUE(SUBSTITUTE(連結実質赤字比率に係る赤字・黒字の構成分析!I$36,"▲", "-")), 2) >= 0, ABS(ROUND(VALUE(SUBSTITUTE(連結実質赤字比率に係る赤字・黒字の構成分析!I$36,"▲", "-")), 2)), NA()) -> 14.99 | J34: =IF(ROUND(VALUE(SUBSTITUTE(連結実質赤字比率に係る赤字・黒字の構成分析!J$36,"▲", "-")), 2) < 0, ABS(ROUND(VALUE(SUBSTITUTE(連結実質赤字比率に係る赤字・黒字の構成分析!J$36,"▲", "-")), 2)), NA()) -> #N/A | K34: =IF(ROUND(VALUE(SUBSTITUTE(連結実質赤字比率に係る赤字・黒字の構成分析!J$36,"▲", "-")), 2) >= 0, ABS(ROUND(VALUE(SUBSTITUTE(連結実質赤字比率に係る赤字・黒字の構成分析!J$36,"▲", "-")), 2)), NA()) -> 15.14
A35: =IF(連結実質赤字比率に係る赤字・黒字の構成分析!C$35="",NA(),連結実質赤字比率に係る赤字・黒字の構成分析!C$35) -> 水道事業会計 | B35: =IF(ROUND(VALUE(SUBSTITUTE(連結実質赤字比率に係る赤字・黒字の構成分析!F$35,"▲", "-")), 2) < 0, ABS(ROUND(VALUE(SUBSTITUTE(連結実質赤字比率に係る赤字・黒字の構成分析!F$35,"▲", "-")), 2)), NA()) -> #VALUE! | C35: =IF(ROUND(VALUE(SUBSTITUTE(連結実質赤字比率に係る赤字・黒字の構成分析!F$35,"▲", "-")), 2) >= 0, ABS(ROUND(VALUE(SUBSTITUTE(連結実質赤字比率に係る赤字・黒字の構成分析!F$35,"▲", "-")), 2)), NA()) -> #VALUE! | D35: =IF(ROUND(VALUE(SUBSTITUTE(連結実質赤字比率に係る赤字・黒字の構成分析!G$35,"▲", "-")), 2) < 0, ABS(ROUND(VALUE(SUBSTITUTE(連結実質赤字比率に係る赤字・黒字の構成分析!G$35,"▲", "-")), 2)), NA()) -> #N/A | E35: =IF(ROUND(VALUE(SUBSTITUTE(連結実質赤字比率に係る赤字・黒字の構成分析!G$35,"▲", "-")), 2) >= 0, ABS(ROUND(VALUE(SUBSTITUTE(連結実質赤字比率に係る赤字・黒字の構成分析!G$35,"▲", "-")), 2)), NA()) -> 27.21 | F35: =IF(ROUND(VALUE(SUBSTITUTE(連結実質赤字比率に係る赤字・黒字の構成分析!H$35,"▲", "-")), 2) < 0, ABS(ROUND(VALUE(SUBSTITUTE(連結実質赤字比率に係る赤字・黒字の構成分析!H$35,"▲", "-")), 2)), NA()) -> #N/A | G35: =IF(ROUND(VALUE(SUBSTITUTE(連結実質赤字比率に係る赤字・黒字の構成分析!H$35,"▲", "-")), 2) >= 0, ABS(ROUND(VALUE(SUBSTITUTE(連結実質赤字比率に係る赤字・黒字の構成分析!H$35,"▲", "-")), 2)), NA()) -> 28.62 | H35: =IF(ROUND(VALUE(SUBSTITUTE(連結実質赤字比率に係る赤字・黒字の構成分析!I$35,"▲", "-")), 2) < 0, ABS(ROUND(VALUE(SUBSTITUTE(連結実質赤字比率に係る赤字・黒字の構成分析!I$35,"▲", "-")), 2)), NA()) -> #N/A | I35: =IF(ROUND(VALUE(SUBSTITUTE(連結実質赤字比率に係る赤字・黒字の構成分析!I$35,"▲", "-")), 2) >= 0, ABS(ROUND(VALUE(SUBSTITUTE(連結実質赤字比率に係る赤字・黒字の構成分析!I$35,"▲", "-")), 2)), NA()) -> 31.3 | J35: =IF(ROUND(VALUE(SUBSTITUTE(連結実質赤字比率に係る赤字・黒字の構成分析!J$35,"▲", "-")), 2) < 0, ABS(ROUND(VALUE(SUBSTITUTE(連結実質赤字比率に係る赤字・黒字の構成分析!J$35,"▲", "-")), 2)), NA()) -> #N/A | K35: =IF(ROUND(VALUE(SUBSTITUTE(連結実質赤字比率に係る赤字・黒字の構成分析!J$35,"▲", "-")), 2) >= 0, ABS(ROUND(VALUE(SUBSTITUTE(連結実質赤字比率に係る赤字・黒字の構成分析!J$35,"▲", "-")), 2)), NA()) -> 27.36
A36: =IF(連結実質赤字比率に係る赤字・黒字の構成分析!C$34="",NA(),連結実質赤字比率に係る赤字・黒字の構成分析!C$34) -> 温泉温水供給事業会計 | B36: =IF(ROUND(VALUE(SUBSTITUTE(連結実質赤字比率に係る赤字・黒字の構成分析!F$34,"▲", "-")), 2) < 0, ABS(ROUND(VALUE(SUBSTITUTE(連結実質赤字比率に係る赤字・黒字の構成分析!F$34,"▲", "-")), 2)), NA()) -> #VALUE! | C36: =IF(ROUND(VALUE(SUBSTITUTE(連結実質赤字比率に係る赤字・黒字の構成分析!F$34,"▲", "-")), 2) >= 0, ABS(ROUND(VALUE(SUBSTITUTE(連結実質赤字比率に係る赤字・黒字の構成分析!F$34,"▲", "-")), 2)), NA()) -> #VALUE! | D36: =IF(ROUND(VALUE(SUBSTITUTE(連結実質赤字比率に係る赤字・黒字の構成分析!G$34,"▲", "-")), 2) < 0, ABS(ROUND(VALUE(SUBSTITUTE(連結実質赤字比率に係る赤字・黒字の構成分析!G$34,"▲", "-")), 2)), NA()) -> #N/A | E36: =IF(ROUND(VALUE(SUBSTITUTE(連結実質赤字比率に係る赤字・黒字の構成分析!G$34,"▲", "-")), 2) >= 0, ABS(ROUND(VALUE(SUBSTITUTE(連結実質赤字比率に係る赤字・黒字の構成分析!G$34,"▲", "-")), 2)), NA()) -> 41.55 | F36: =IF(ROUND(VALUE(SUBSTITUTE(連結実質赤字比率に係る赤字・黒字の構成分析!H$34,"▲", "-")), 2) < 0, ABS(ROUND(VALUE(SUBSTITUTE(連結実質赤字比率に係る赤字・黒字の構成分析!H$34,"▲", "-")), 2)), NA()) -> #N/A | G36: =IF(ROUND(VALUE(SUBSTITUTE(連結実質赤字比率に係る赤字・黒字の構成分析!H$34,"▲", "-")), 2) >= 0, ABS(ROUND(VALUE(SUBSTITUTE(連結実質赤字比率に係る赤字・黒字の構成分析!H$34,"▲", "-")), 2)), NA()) -> 42.05 | H36: =IF(ROUND(VALUE(SUBSTITUTE(連結実質赤字比率に係る赤字・黒字の構成分析!I$34,"▲", "-")), 2) < 0, ABS(ROUND(VALUE(SUBSTITUTE(連結実質赤字比率に係る赤字・黒字の構成分析!I$34,"▲", "-")), 2)), NA()) -> #N/A | I36: =IF(ROUND(VALUE(SUBSTITUTE(連結実質赤字比率に係る赤字・黒字の構成分析!I$34,"▲", "-")), 2) >= 0, ABS(ROUND(VALUE(SUBSTITUTE(連結実質赤字比率に係る赤字・黒字の構成分析!I$34,"▲", "-")), 2)), NA()) -> 45.05 | J36: =IF(ROUND(VALUE(SUBSTITUTE(連結実質赤字比率に係る赤字・黒字の構成分析!J$34,"▲", "-")), 2) < 0, ABS(ROUND(VALUE(SUBSTITUTE(連結実質赤字比率に係る赤字・黒字の構成分析!J$34,"▲", "-")), 2)), NA()) -> #N/A | K36: =IF(ROUND(VALUE(SUBSTITUTE(連結実質赤字比率に係る赤字・黒字の構成分析!J$34,"▲", "-")), 2) >= 0, ABS(ROUND(VALUE(SUBSTITUTE(連結実質赤字比率に係る赤字・黒字の構成分析!J$34,"▲", "-")), 2)), NA()) -> 31.92
A39: 実質公債費比率（分子）の構造
B40: ='実質公債費比率（分子）の構造'!K$44 -> H18 | E40: ='実質公債費比率（分子）の構造'!L$44 -> H19 | H40: ='実質公債費比率（分子）の構造'!M$44 -> H20 | K40: ='実質公債費比率（分子）の構造'!N$44 -> H21 | N40: ='実質公債費比率（分子）の構造'!O$44 -> H22
B41: 元利償還金等 | D41: 算入公債費等 | E41: 元利償還金等 | G41: 算入公債費等 | H41: 元利償還金等 | J41: 算入公債費等 | K41: 元利償還金等 | M41: 算入公債費等 | N41: 元利償還金等 | P41: 算入公債費等
A42: 算入公債費等 | D42: ='実質公債費比率（分子）の構造'!K$52 -> - | G42: ='実質公債費比率（分子）の構造'!L$52 -> 160 | J42: ='実質公債費比率（分子）の構造'!M$52 -> 173 | M42: ='実質公債費比率（分子）の構造'!N$52 -> 282 | P42: ='実質公債費比率（分子）の構造'!O$52 -> 276
A43: 一時借入金利子 | B43: ='実質公債費比率（分子）の構造'!K$51 -> - | E43: ='実質公債費比率（分子）の構造'!L$51 -> - | H43: ='実質公債費比率（分子）の構造'!M$51 -> - | K43: ='実質公債費比率（分子）の構造'!N$51 -> - | N43: ='実質公債費比率（分子）の構造'!O$51 -> -
A44: 債務負担行為に基づく支出額 | B44: ='実質公債費比率（分子）の構造'!K$50 -> - | E44: ='実質公債費比率（分子）の構造'!L$50 -> 81 | H44: ='実質公債費比率（分子）の構造'!M$50 -> 82 | K44: ='実質公債費比率（分子）の構造'!N$50 -> 82 | N44: ='実質公債費比率（分子）の構造'!O$50 -> 82
A45: 組合等が起こした地方債の元利償還金に対する負担金等 | B45: ='実質公債費比率（分子）の構造'!K$49 -> - | E45: ='実質公債費比率（分子）の構造'!L$49 -> 39 | H45: ='実質公債費比率（分子）の構造'!M$49 -> 36 | K45: ='実質公債費比率（分子）の構造'!N$49 -> 44 | N45: ='実質公債費比率（分子）の構造'!O$49 -> 40
A46: 公営企業債の元利償還金に対する繰入金 | B46: ='実質公債費比率（分子）の構造'!K$48 -> - | E46: ='実質公債費比率（分子）の構造'!L$48 -> 36 | H46: ='実質公債費比率（分子）の構造'!M$48 -> 35 | K46: ='実質公債費比率（分子）の構造'!N$48 -> 33 | N46: ='実質公債費比率（分子）の構造'!O$48 -> 29
A47: 満期一括償還地方債に係る年度割相当額 | B47: ='実質公債費比率（分子）の構造'!K$47 -> - | E47: ='実質公債費比率（分子）の構造'!L$47 -> - | H47: ='実質公債費比率（分子）の構造'!M$47 -> - | K47: ='実質公債費比率（分子）の構造'!N$47 -> - | N47: ='実質公債費比率（分子）の構造'!O$47 -> -
...
