Workbook

Sheet 入力手順
B2: 申告書及び納入書の作成等の流れ
B5: １ 「基本情報」シートに必要項目を入力。
B6: ↓
B7: ２ 「入湯税に係る帳簿」シートに該当月の「入湯客数」を日にちごと、及び区分ごとに入力。
B8: なお、入力に当たっては、「課税免除」に該当する入湯客数も必ず入力してください。（ない場合は「０（ゼロ）」を入力。）
B9: ↓
B10: ３ 上記１及び２を正しく入力したら、「申告書」と「納入書」を印刷。
B11: ↓
B12: ４ 印刷した申告書を、草津町役場税務課へ提出。
B13: ↓
B14: ５ 印刷した納入書で、特別徴収した入湯税を草津町役場会計課窓口、又は指定金融機関で納入。
M15: 【指定金融機関】
M16: ・群馬銀行 ・東和銀行
B17: ※作成に当たっては、各シートの注意事項をご確認願います。 | M17: ・北群馬信用金庫 ・ぐんまみらい信用組合
B18: ※この様式は、該当する申告年月分ごとに作成してください。 | N18: （上記金融機関の本支店窓口）
C20: お問い合わせ先
C21: 草津町役場 税務課 諸税係
C22: ℡０２７９－８８－７１８６（直通）

Sheet １　基本情報
A1: １ 基本情報の入力
B2: 基本情報の入力に当たっては、青色の塗りつぶし箇所に、各年月分ごとに指定番号等をもれなく入力してください。
M3: 【注意事項】
M4: ※「入力箇所」には、予め入力例を示していますので、全て上書き入力してご使用ください。
B5: 該当項目 | C5: ↓ 入力箇所 ↓ | J5: 入力形式
B6: 申告年（和暦） | C6: 7 | J6: 数値
B7: 申告月 | C7: 3 | J7: 数値
B8: 指定番号（申告書の綴から転記） ※各特別徴収義務者の固有の番号です。 | C8: 123 | J8: 数値 | M8: ※入湯税の年度区分は、毎年３月分から翌年２月分までが１年度です。
B9: 鉱泉浴場等の屋号 | C9: 草津温泉浴場 | J9: 文字列
B10: 特別徴収義務者の氏名又は名称 | C10: （株）草津温泉 | J10: 文字列
B11: 特別徴収義務者の住所又は所在 | C11: 草津町大字草津２８番地 | J11: 文字列
B12: 個人番号又は法人番号 | C12: 11111111111111 | J12: 数値
B13: 担当者名 | C13: 草津 ○○ | J13: 文字列
B14: 電話番号 | C14: 0279-88-7186 | J14: 文字列
B15: 申告書提出日 | C15: 令和 | D15: 7 | E15: 年 | F15: 4 | G15: 月 | H15: 1 | I15: 日 | J15: 数値 | L15: → | M15: 基本情報の入力が完了後、「２ 入湯税に係る帳簿」の入力へ。

Sheet ２　入湯税に係る帳簿 
B1: 入 湯 税 に 係 る 帳 簿
B2: （月別集計表） | O2: ２ 入湯税に係る帳簿の入力
B3: 令和 | C3: ='１ 基本情報'!C6&" 年" -> 7 年 | E3: ='１ 基本情報'!C7&" 月分" -> 3 月分 | K3: 指定番号 | L3: ='１ 基本情報'!C8 -> 123
B4: 鉱泉浴場（屋号）の名称 | H4: ='１ 基本情報'!C9 -> 草津温泉浴場 | O4: 【入力における注意事項】 ・入力に当たっては、青色の塗りつぶし箇所に、各日ごとの入湯客数を、各浴場施設の宿泊台帳、その他入湯行為に関する関係帳簿等から正確に転記し、かつ、一致させてください。 ・課税免除に該当する入湯客数についても、必ず入力してください。 ・「修学旅行」について（条例第142条及び第143条関係） 全校、又は学年を単位とした学校行事の一環として行われる旅行で、教師の引率を伴うものであり、かつ、その目的が当該学校の学習指導要領等に基づき計画された学校行事であることに留意してください。 ・「基本宿泊料金」について（条例第143条関係） 当該宿泊施設が規定する宿泊約款またはこれに準ずるもの（以下「約款等」という。）に提示された料金とし、約款等により宿泊に伴う室料に飲食代を含む場合は、その合計額となります。なお、当該料金に、消費税は含まないことに留意してください。 ・「帳簿の記載及び保存義務」について（条例第150条関係） 特別徴収義務者は、この申告の根拠として、毎月の入湯客数、入湯料金及び入湯税額を帳簿に記載し、１年間保存する義務があります。
B5: 特別徴収義務者の氏名又は名称 | H5: ='１ 基本情報'!C10 -> （株）草津温泉
B6: 日 | C6: 入 湯 客 数（人） | L6: 納入すべき 納入金の額
C7: 基本宿泊料金が6,000円を超えるもの | E7: 基本宿泊料金が6,000円以下のもの | G7: 修学旅行の 高等学校生徒 | I7: 日帰り・休憩 | K7: 課税免除 ※小学生以下の者、及び修学旅行の中学校生徒
C8: １５０円 | E8: １００円 | G8: ５０円 | I8: ５０円 | L8: （円）
B9: 1 | L9: =C9*150+E9*100+G9*50+I9*50 -> 0
B10: 2 | L10: =C10*150+E10*100+G10*50+I10*50 -> 0
B11: 3 | L11: =C11*150+E11*100+G11*50+I11*50 -> 0
B12: 4 | L12: =C12*150+E12*100+G12*50+I12*50 -> 0
B13: 5 | L13: =C13*150+E13*100+G13*50+I13*50 -> 0
B14: 6 | L14: =C14*150+E14*100+G14*50+I14*50 -> 0
B15: 7 | L15: =C15*150+E15*100+G15*50+I15*50 -> 0
B16: 8 | L16: =C16*150+E16*100+G16*50+I16*50 -> 0
B17: 9 | L17: =C17*150+E17*100+G17*50+I17*50 -> 0
B18: 10 | L18: =C18*150+E18*100+G18*50+I18*50 -> 0
B19: 11 | L19: =C19*150+E19*100+G19*50+I19*50 -> 0 | O19: 【入湯税に関する調査について】
B20: 12 | L20: =C20*150+E20*100+G20*50+I20*50 -> 0 | O20: ・作成していただいた内容（申告納入内容）は、後日入湯税に関する検査を実地にて行う場合がありますので、帳簿類は確実に保管しておいてください。
B21: 13 | L21: =C21*150+E21*100+G21*50+I21*50 -> 0
B22: 14 | L22: =C22*150+E22*100+G22*50+I22*50 -> 0
B23: 15 | L23: =C23*150+E23*100+G23*50+I23*50 -> 0
B24: 16 | L24: =C24*150+E24*100+G24*50+I24*50 -> 0
B25: 17 | L25: =C25*150+E25*100+G25*50+I25*50 -> 0
B26: 18 | L26: =C26*150+E26*100+G26*50+I26*50 -> 0
B27: 19 | L27: =C27*150+E27*100+G27*50+I27*50 -> 0
B28: 20 | L28: =C28*150+E28*100+G28*50+I28*50 -> 0
B29: 21 | L29: =C29*150+E29*100+G29*50+I29*50 -> 0
B30: 22 | L30: =C30*150+E30*100+G30*50+I30*50 -> 0
B31: 23 | L31: =C31*150+E31*100+G31*50+I31*50 -> 0
B32: 24 | L32: =C32*150+E32*100+G32*50+I32*50 -> 0
... B38: 30 | L38: =C38*150+E38*100+G38*50+I38*50 -> 0
B39: 31 | L39: =C39*150+E39*100+G39*50+I39*50 -> 0 | O39: → すべて入力が完了したら、「申告書」タブ及び「納入書」タブから、 それぞれ様式を印刷。
B40: 合計 | C40: =SUM(C9:D39) -> 0 | E40: =SUM(E9:F39) -> 0 | G40: =SUM(G9:H39) -> 0 | I40: =SUM(I9:J39) -> 0 | K40: =SUM(K9:K39) -> 0 | L40: =SUM(L9:L39) -> 0

Sheet 申告書
B5: 指定番号 | D5: ='１ 基本情報'!C8 -> 123 | G5: ='１ 基本情報'!C15&'１ 基本情報'!D15&'１ 基本情報'!E15&'１ 基本情報'!F15&'１ 基本情報'!G15&'１ 基本情報'!H15&'１ 基本情報'!I15&"提出" -> 令和7年4月1日提出 | N5: 提出用
B9: 令和 | C9: ='１ 基本情報'!C6&'１ 基本情報'!E15 -> 7年 | D9: ='１ 基本情報'!C7&"月分" -> 3月分 | E9: 入湯税納入申告書 | I9: 納入期限 | Q9: 【注意】 印刷の前に、入力ミス等がないか、必ず内容をご確認いただきますよう、お願いいたします。
I10: 該当月の翌月末日（休日の場合は翌日）まで
B12: 入湯税の納入について、草津町税条例第145条第5項の規定により申告します。
B14: 草津町長 様 | E14: 特別徴収 義務者 | F14: 屋 号 | I14: ='１ 基本情報'!C9 -> 草津温泉浴場
F16: 氏 名 （法人名と代表者名） | I16: ='１ 基本情報'!C10 -> （株）草津温泉 | N16: ㊞
F18: 個人番号 又は法人番号 | I18: ='１ 基本情報'!C12 -> 11111111111111
F20: この申告に応答する者の氏名及び電話番号 | I20: ='１ 基本情報'!C13&" "&'１ 基本情報'!C14 -> 草津 ○○ 0279-88-7186
B21: 1 | C21: 基本宿泊料金が6,000円超えるもの | G21: ='２ 入湯税に係る帳簿 '!C40 -> 0 | I21: 150 | L21: =G21*I21 -> 0
B22: 2 | C22: 基本宿泊料金が6,000円以下のもの | G22: ='２ 入湯税に係る帳簿 '!E40 -> 0 | I22: 100 | L22: =G22*I22 -> 0
B23: 3 | C23: 修学旅行の高等学校生徒 | G23: ='２ 入湯税に係る帳簿 '!G40 -> 0 | I23: 50 | L23: =G23*I23 -> 0
B24: 4 | C24: 日帰り 休憩 | G24: ='２ 入湯税に係る帳簿 '!I40 -> 0 | I24: 50 | L24: =G24*I24 -> 0
B25: 合 計 | G25: =SUM(G21:H24) -> 0 | L25: =SUM(L21:N24) -> 0
B27: ◎課税免除（必ず記入） | E27: ='２ 入湯税に係る帳簿 '!K40 -> 0 | L27: 徴収簿 | M27: 課税台帳 | N27: 処理完了日
B28: ・小学生以下の者 ・修学旅行の中学校生徒

Sheet 納入書
B1: 納入書兼領収済通知書 | L1: 領 収 控 | V1: 領 収 証 書
B3: 納入者 | C3: 住所 | D3: ='１ 基本情報'!C11 -> 草津町大字草津２８番地 | I3: 様 | L3: 納入者 | M3: 住所 | N3: =D3 -> 草津町大字草津２８番地 | S3: 様 | V3: 納入者 | W3: 住所 | X3: =D3 -> 草津町大字草津２８番地 | AC3: 様
C4: 氏名 | D4: ='１ 基本情報'!C10 -> （株）草津温泉 | M4: 氏名 | N4: =D4 -> （株）草津温泉 | W4: 氏名 | X4: =D4 -> （株）草津温泉
B5: 科目 | E5: 一般会計 入湯税 | L5: 科目 | O5: =E5 -> 一般会計 入湯税 | V5: 科目 | Y5: =E5 -> 一般会計 入湯税 | AE5: 【注意】 印刷の前に、入力ミス等がないか、必ず内容をご確認いただきますよう、お願いいたします。
B6: 領収金内訳 | L6: 領収金内訳 | V6: 領収金内訳
B7: 年度 | C7: 通知書 番 号 | D7: 期別 | F7: 税額 | G7: 延滞金 | H7: 督促 | I7: 適用 | L7: 年度 | M7: 通知書 番 号 | N7: 期別 | P7: 税額 | Q7: 延滞金 | R7: 督促 | S7: 適用 | V7: 年度 | W7: 通知書 番 号 | X7: 期別 | Z7: 税額 | AA7: 延滞金 | AB7: 督促 | AC7: 適用
B8: {=IF(OR('１ 基本情報'!C7=1,'１ 基本情報'!C7:I7=2),'１ 基本情報'!C6-1,'１ 基本情報'!C6)} -> 7 | C8: ='１ 基本情報'!C8 -> 123 | D8: ='１ 基本情報'!C7 -> 3 | E8: 月 | F8: ='２ 入湯税に係る帳簿 '!L40 -> 0 | H8: 0 | L8: =B8 -> 7 | M8: =C8 -> 123 | N8: =D8 -> 3 | O8: 月 | P8: =F8 -> 0 | Q8: =G8 -> 0 | R8: =H8 -> 0 | V8: =B8 -> 7 | W8: =C8 -> 123 | X8: =D8 -> 3 | Y8: 月 | Z8: =F8 -> 0 | AA8: =G8 -> 0 | AB8: =H8 -> 0
E9: 月 | H9: 0 | L9: =B9 -> 0 | M9: =C9 -> 0 | N9: =D9 -> 0 | O9: 月 | P9: =F9 -> 0 | Q9: =G9 -> 0 | R9: =H9 -> 0 | V9: =B9 -> 0 | W9: =C9 -> 0 | X9: =D9 -> 0 | Y9: 月 | Z9: =F9 -> 0 | AA9: =G9 -> 0 | AB9: =H9 -> 0
E10: 月 | H10: 0 | L10: =B10 -> 0 | M10: =C10 -> 0 | N10: =D10 -> 0 | O10: 月 | P10: =F10 -> 0 | Q10: =G10 -> 0 | R10: =H10 -> 0 | V10: =B10 -> 0 | W10: =C10 -> 0 | X10: =D10 -> 0 | Y10: 月 | Z10: =F10 -> 0 | AA10: =G10 -> 0 | AB10: =H10 -> 0
E11: 月 | H11: 0 | L11: =B11 -> 0 | M11: =C11 -> 0 | N11: =D11 -> 0 | O11: 月 | P11: =F11 -> 0 | Q11: =G11 -> 0 | R11: =H11 -> 0 | V11: =B11 -> 0 | W11: =C11 -> 0 | X11: =D11 -> 0 | Y11: 月 | Z11: =F11 -> 0 | AA11: =G11 -> 0 | AB11: =H11 -> 0
E12: 月 | H12: 0 | L12: =B12 -> 0 | M12: =C12 -> 0 | N12: =D12 -> 0 | O12: 月 | P12: =F12 -> 0 | Q12: =G12 -> 0 | R12: =H12 -> 0 | V12: =B12 -> 0 | W12: =C12 -> 0 | X12: =D12 -> 0 | Y12: 月 | Z12: =F12 -> 0 | AA12: =G12 -> 0 | AB12: =H12 -> 0
E13: 月 | H13: 0 | L13: =B13 -> 0 | M13: =C13 -> 0 | N13: =D13 -> 0 | O13: 月 | P13: =F13 -> 0 | Q13: =G13 -> 0 | R13: =H13 -> 0 | V13: =B13 -> 0 | W13: =C13 -> 0 | X13: =D13 -> 0 | Y13: 月 | Z13: =F13 -> 0 | AA13: =G13 -> 0 | AB13: =H13 -> 0
E14: 月 | H14: 0 | L14: =B14 -> 0 | M14: =C14 -> 0 | N14: =D14 -> 0 | O14: 月 | P14: =F14 -> 0 | Q14: =G14 -> 0 | R14: =H14 -> 0 | V14: =B14 -> 0 | W14: =C14 -> 0 | X14: =D14 -> 0 | Y14: 月 | Z14: =F14 -> 0 | AA14: =G14 -> 0 | AB14: =H14 -> 0
E15: 月 | H15: 0 | L15: =B15 -> 0 | M15: =C15 -> 0 | N15: =D15 -> 0 | O15: 月 | P15: =F15 -> 0 | Q15: =G15 -> 0 | R15: =H15 -> 0 | V15: =B15 -> 0 | W15: =C15 -> 0 | X15: =D15 -> 0 | Y15: 月 | Z15: =F15 -> 0 | AA15: =G15 -> 0 | AB15: =H15 -> 0
E16: 月 | H16: 0 | L16: =B16 -> 0 | M16: =C16 -> 0 | N16: =D16 -> 0 | O16: 月 | P16: =F16 -> 0 | Q16: =G16 -> 0 | R16: =H16 -> 0 | V16: =B16 -> 0 | W16: =C16 -> 0 | X16: =D16 -> 0 | Y16: 月 | Z16: =F16 -> 0 | AA16: =G16 -> 0 | AB16: =H16 -> 0
E17: 月 | H17: 0 | L17: =B17 -> 0 | M17: =C17 -> 0 | N17: =D17 -> 0 | O17: 月 | P17: =F17 -> 0 | Q17: =G17 -> 0 | R17: =H17 -> 0 | V17: =B17 -> 0 | W17: =C17 -> 0 | X17: =D17 -> 0 | Y17: 月 | Z17: =F17 -> 0 | AA17: =G17 -> 0 | AB17: =H17 -> 0
E18: 月 | H18: 0 | L18: =B18 -> 0 | M18: =C18 -> 0 | N18: =D18 -> 0 | O18: 月 | P18: =F18 -> 0 | Q18: =G18 -> 0 | R18: =H18 -> 0 | V18: =B18 -> 0 | W18: =C18 -> 0 | X18: =D18 -> 0 | Y18: 月 | Z18: =F18 -> 0 | AA18: =G18 -> 0 | AB18: =H18 -> 0
E19: 月 | H19: 0 | L19: =B19 -> 0 | M19: =C19 -> 0 | N19: =D19 -> 0 | O19: 月 | P19: =F19 -> 0 | Q19: =G19 -> 0 | R19: =H19 -> 0 | V19: =B19 -> 0 | W19: =C19 -> 0 | X19: =D19 -> 0 | Y19: 月 | Z19: =F19 -> 0 | AA19: =G19 -> 0 | AB19: =H19 -> 0
B20: 合計金額 | F20: =SUM(F8:H19) -> 0 | I20: 円 | L20: 合計金額 | P20: =F20 -> 0 | S20: 円 | V20: 合計金額 | Z20: =F20 -> 0 | AC20: 円
B21: 上記のとおり領収しましたので通知します。 | L21: 上記のとおり領収しました。 | V21: 上記のとおり領収しました。
B23: 草津町会計管理者あて | L23: 令和 年 月 日 | V23: 令和 年 月 日
G24: 領収日付印 | Q24: 領収日付印 | AA24: 領収日付印
B25: 令和 年 月 日 | AA25: 収入印紙不要
C29: （取りまとめ店 群馬銀行草津支店） | L29: （取りまとめ店 群馬銀行草津支店） | V29: （取りまとめ店 群馬銀行草津支店）

Sheet 納入書 (ブランク)
B1: 納入書兼領収済通知書 | L1: 領 収 控 | V1: 領 収 証 書
B3: 納入者 | C3: 住所 | D3: ='１ 基本情報'!C11 -> 草津町大字草津２８番地 | I3: 様 | L3: 納入者 | M3: 住所 | N3: =D3 -> 草津町大字草津２８番地 | S3: 様 | V3: 納入者 | W3: 住所 | X3: =D3 -> 草津町大字草津２８番地 | AC3: 様
C4: 氏名 | D4: ='１ 基本情報'!C10 -> （株）草津温泉 | M4: 氏名 | N4: =D4 -> （株）草津温泉 | W4: 氏名 | X4: =D4 -> （株）草津温泉 | AE4: ※このシートは、手書きの納入書が汚損等により不足した場合などにご活用ください。 （ご利用に当たって、基本情報の入力は必須となります。） ※作成に当たっては、「納入書兼領収済通知書」の、年度・通知書番号・期別・税額等に入力してください。
B5: 科目 | E5: 一般会計 入湯税 | L5: 科目 | O5: =E5 -> 一般会計 入湯税 | V5: 科目 | Y5: =E5 -> 一般会計 入湯税
B6: 領収金内訳 | L6: 領収金内訳 | V6: 領収金内訳
B7: 年度 | C7: 通知書 番 号 | D7: 期別 | F7: 税額 | G7: 延滞金 | H7: 督促 | I7: 適用 | L7: 年度 | M7: 通知書 番 号 | N7: 期別 | P7: 税額 | Q7: 延滞金 | R7: 督促 | S7: 適用 | V7: 年度 | W7: 通知書 番 号 | X7: 期別 | Z7: 税額 | AA7: 延滞金 | AB7: 督促 | AC7: 適用
E8: 月 | L8: =B8 -> 0 | M8: =C8 -> 0 | N8: =D8 -> 0 | O8: 月 | P8: =F8 -> 0 | Q8: =G8 -> 0 | R8: =H8 -> 0 | V8: =B8 -> 0 | W8: =C8 -> 0 | X8: =D8 -> 0 | Y8: 月 | Z8: =F8 -> 0 | AA8: =G8 -> 0 | AB8: =H8 -> 0
E9: 月 | H9: 0 | L9: =B9 -> 0 | M9: =C9 -> 0 | N9: =D9 -> 0 | O9: 月 | P9: =F9 -> 0 | Q9: =G9 -> 0 | R9: =H9 -> 0 | V9: =B9 -> 0 | W9: =C9 -> 0 | X9: =D9 -> 0 | Y9: 月 | Z9: =F9 -> 0 | AA9: =G9 -> 0 | AB9: =H9 -> 0
E10: 月 | H10: 0 | L10: =B10 -> 0 | M10: =C10 -> 0 | N10: =D10 -> 0 | O10: 月 | P10: =F10 -> 0 | Q10: =G10 -> 0 | R10: =H10 -> 0 | V10: =B10 -> 0 | W10: =C10 -> 0 | X10: =D10 -> 0 | Y10: 月 | Z10: =F10 -> 0 | AA10: =G10 -> 0 | AB10: =H10 -> 0
E11: 月 | H11: 0 | L11: =B11 -> 0 | M11: =C11 -> 0 | N11: =D11 -> 0 | O11: 月 | P11: =F11 -> 0 | Q11: =G11 -> 0 | R11: =H11 -> 0 | V11: =B11 -> 0 | W11: =C11 -> 0 | X11: =D11 -> 0 | Y11: 月 | Z11: =F11 -> 0 | AA11: =G11 -> 0 | AB11: =H11 -> 0
E12: 月 | H12: 0 | L12: =B12 -> 0 | M12: =C12 -> 0 | N12: =D12 -> 0 | O12: 月 | P12: =F12 -> 0 | Q12: =G12 -> 0 | R12: =H12 -> 0 | V12: =B12 -> 0 | W12: =C12 -> 0 | X12: =D12 -> 0 | Y12: 月 | Z12: =F12 -> 0 | AA12: =G12 -> 0 | AB12: =H12 -> 0
E13: 月 | H13: 0 | L13: =B13 -> 0 | M13: =C13 -> 0 | N13: =D13 -> 0 | O13: 月 | P13: =F13 -> 0 | Q13: =G13 -> 0 | R13: =H13 -> 0 | V13: =B13 -> 0 | W13: =C13 -> 0 | X13: =D13 -> 0 | Y13: 月 | Z13: =F13 -> 0 | AA13: =G13 -> 0 | AB13: =H13 -> 0
E14: 月 | H14: 0 | L14: =B14 -> 0 | M14: =C14 -> 0 | N14: =D14 -> 0 | O14: 月 | P14: =F14 -> 0 | Q14: =G14 -> 0 | R14: =H14 -> 0 | V14: =B14 -> 0 | W14: =C14 -> 0 | X14: =D14 -> 0 | Y14: 月 | Z14: =F14 -> 0 | AA14: =G14 -> 0 | AB14: =H14 -> 0
E15: 月 | H15: 0 | L15: =B15 -> 0 | M15: =C15 -> 0 | N15: =D15 -> 0 | O15: 月 | P15: =F15 -> 0 | Q15: =G15 -> 0 | R15: =H15 -> 0 | V15: =B15 -> 0 | W15: =C15 -> 0 | X15: =D15 -> 0 | Y15: 月 | Z15: =F15 -> 0 | AA15: =G15 -> 0 | AB15: =H15 -> 0
E16: 月 | H16: 0 | L16: =B16 -> 0 | M16: =C16 -> 0 | N16: =D16 -> 0 | O16: 月 | P16: =F16 -> 0 | Q16: =G16 -> 0 | R16: =H16 -> 0 | V16: =B16 -> 0 | W16: =C16 -> 0 | X16: =D16 -> 0 | Y16: 月 | Z16: =F16 -> 0 | AA16: =G16 -> 0 | AB16: =H16 -> 0
E17: 月 | H17: 0 | L17: =B17 -> 0 | M17: =C17 -> 0 | N17: =D17 -> 0 | O17: 月 | P17: =F17 -> 0 | Q17: =G17 -> 0 | R17: =H17 -> 0 | V17: =B17 -> 0 | W17: =C17 -> 0 | X17: =D17 -> 0 | Y17: 月 | Z17: =F17 -> 0 | AA17: =G17 -> 0 | AB17: =H17 -> 0
E18: 月 | H18: 0 | L18: =B18 -> 0 | M18: =C18 -> 0 | N18: =D18 -> 0 | O18: 月 | P18: =F18 -> 0 | Q18: =G18 -> 0 | R18: =H18 -> 0 | V18: =B18 -> 0 | W18: =C18 -> 0 | X18: =D18 -> 0 | Y18: 月 | Z18: =F18 -> 0 | AA18: =G18 -> 0 | AB18: =H18 -> 0
E19: 月 | H19: 0 | L19: =B19 -> 0 | M19: =C19 -> 0 | N19: =D19 -> 0 | O19: 月 | P19: =F19 -> 0 | Q19: =G19 -> 0 | R19: =H19 -> 0 | V19: =B19 -> 0 | W19: =C19 -> 0 | X19: =D19 -> 0 | Y19: 月 | Z19: =F19 -> 0 | AA19: =G19 -> 0 | AB19: =H19 -> 0
B20: 合計金額 | F20: =SUM(F8:H19) -> 0 | I20: 円 | L20: 合計金額 | P20: =F20 -> 0 | S20: 円 | V20: 合計金額 | Z20: =F20 -> 0 | AC20: 円
B21: 上記のとおり領収しましたので通知します。 | L21: 上記のとおり領収しました。 | V21: 上記のとおり領収しました。
B23: 草津町会計管理者あて | L23: 令和 年 月 日 | V23: 令和 年 月 日
G24: 領収日付印 | Q24: 領収日付印 | AA24: 領収日付印
B25: 令和 年 月 日 | AA25: 収入印紙不要
C29: （取りまとめ店 群馬銀行草津支店） | L29: （取りまとめ店 群馬銀行草津支店） | V29: （取りまとめ店 群馬銀行草津支店）
